BEGIN:VCALENDAR
VERSION:2.0
PRODID:-//The Factory - ECPv6.15.20//NONSGML v1.0//EN
CALSCALE:GREGORIAN
METHOD:PUBLISH
X-WR-CALNAME:The Factory
X-ORIGINAL-URL:https://www.thefactoryministries.org
X-WR-CALDESC:Events for The Factory
REFRESH-INTERVAL;VALUE=DURATION:PT1H
X-Robots-Tag:noindex
X-PUBLISHED-TTL:PT1H
BEGIN:VTIMEZONE
TZID:America/New_York
BEGIN:DAYLIGHT
TZOFFSETFROM:-0500
TZOFFSETTO:-0400
TZNAME:EDT
DTSTART:20180311T070000
END:DAYLIGHT
BEGIN:STANDARD
TZOFFSETFROM:-0400
TZOFFSETTO:-0500
TZNAME:EST
DTSTART:20181104T060000
END:STANDARD
BEGIN:DAYLIGHT
TZOFFSETFROM:-0500
TZOFFSETTO:-0400
TZNAME:EDT
DTSTART:20190310T070000
END:DAYLIGHT
BEGIN:STANDARD
TZOFFSETFROM:-0400
TZOFFSETTO:-0500
TZNAME:EST
DTSTART:20191103T060000
END:STANDARD
BEGIN:DAYLIGHT
TZOFFSETFROM:-0500
TZOFFSETTO:-0400
TZNAME:EDT
DTSTART:20200308T070000
END:DAYLIGHT
BEGIN:STANDARD
TZOFFSETFROM:-0400
TZOFFSETTO:-0500
TZNAME:EST
DTSTART:20201101T060000
END:STANDARD
END:VTIMEZONE
BEGIN:VEVENT
DTSTART;VALUE=DATE:20190602
DTEND;VALUE=DATE:20190603
DTSTAMP:20260422T164247
CREATED:20190519T030341Z
LAST-MODIFIED:20190720T120417Z
UID:12957-1559433600-1559519999@www.thefactoryministries.org
SUMMARY:The Best Summer Ever!
DESCRIPTION:This summer we are bringing The Best Summer Ever back for our Factory Kids. What is The Best Summer Ever? \nEach Sunday we take their bible lessons and stories and bump them up a notch with special games\, crafts\, snacks and just plain fun! \nPlay clothes are strongly recommended every Sunday because we can’t promise we won’t send them home a little wet or dirty. The Best Summer Ever begins Sunday\, June 2nd.
URL:https://www.thefactoryministries.org/event/the-best-summer-ever/2019-06-02/
LOCATION:The Factory Church\, 9872 Main Street\, Woodstock\, GA\, 30188\, United States
ATTACH;FMTTYPE=image/jpeg:https://www.thefactoryministries.org/wp-content/uploads/2019/05/BSE2019.jpg
GEO:34.0813133;-84.5206214
X-APPLE-STRUCTURED-LOCATION;VALUE=URI;X-ADDRESS=The Factory Church 9872 Main Street Woodstock GA 30188 United States;X-APPLE-RADIUS=500;X-TITLE=9872 Main Street:geo:-84.5206214,34.0813133
END:VEVENT
BEGIN:VEVENT
DTSTART;VALUE=DATE:20190526
DTEND;VALUE=DATE:20190527
DTSTAMP:20260422T164248
CREATED:20190512T040107Z
LAST-MODIFIED:20190512T040107Z
UID:12949-1558828800-1558915199@www.thefactoryministries.org
SUMMARY:Graduate Recognition Sunday
DESCRIPTION:We will be honoring all of our Class of 2019 graduates on Sunday\, May 26th at all three services. \nIf you or a family member is graduating from high school\, college or received a post-graduate degree\, we’d like to celebrate your hard work! \nPlease register your graduate below\, on the app\, or in the lobby. \n[maxbutton id=”17″ ]
URL:https://www.thefactoryministries.org/event/graduate-recognition-sunday/
LOCATION:The Factory Church\, 9872 Main Street\, Woodstock\, GA\, 30188\, United States
ATTACH;FMTTYPE=image/jpeg:https://www.thefactoryministries.org/wp-content/uploads/2019/05/2019Graduate.jpg
GEO:34.0813133;-84.5206214
X-APPLE-STRUCTURED-LOCATION;VALUE=URI;X-ADDRESS=The Factory Church 9872 Main Street Woodstock GA 30188 United States;X-APPLE-RADIUS=500;X-TITLE=9872 Main Street:geo:-84.5206214,34.0813133
END:VEVENT
BEGIN:VEVENT
DTSTART;TZID=America/New_York:20190511T110000
DTEND;TZID=America/New_York:20190511T140000
DTSTAMP:20260422T164248
CREATED:20190421T090839Z
LAST-MODIFIED:20190421T091533Z
UID:12913-1557572400-1557583200@www.thefactoryministries.org
SUMMARY:Mother's Day at the Hope Center
DESCRIPTION:The Compassion Team is partnering with The Hope Center\, a pregnancy resource clinic in Woodstock\, for a special Mother’s Day outreach on Sat.\, May 11th from 11am to 2pm. \nWe’ll be providing fun for the kids and lunch for The Hope Center clients\, staff and volunteers. \nSign up below to help us encourage and bless some really special people at The Hope Center. \n[maxbutton id=”77″ ]
URL:https://www.thefactoryministries.org/event/mothers-day-at-the-hope-center/
LOCATION:GA
ATTACH;FMTTYPE=image/jpeg:https://www.thefactoryministries.org/wp-content/uploads/2019/04/MDHopeCenter.jpg
END:VEVENT
BEGIN:VEVENT
DTSTART;VALUE=DATE:20190421
DTEND;VALUE=DATE:20190602
DTSTAMP:20260422T164248
CREATED:20190421T084006Z
LAST-MODIFIED:20190421T084820Z
UID:12906-1555804800-1559433599@www.thefactoryministries.org
SUMMARY:2019 VBS Volunteers
DESCRIPTION:Vacation Bible School is Coming! \nVacation Bible School is coming June 3rd through 7th from 6:30 to 8:30pm. \nIf you are willing to help us make this year’s VBS the best ever\, please let us know by signing up below.\nThanks in advance for being willing to disciple our Factory kids! \n[maxbutton id=”76″ ]
URL:https://www.thefactoryministries.org/event/2019-vbs-volunteers/
LOCATION:The Factory Church\, 9872 Main Street\, Woodstock\, GA\, 30188\, United States
ATTACH;FMTTYPE=image/jpeg:https://www.thefactoryministries.org/wp-content/uploads/2019/04/VBS2019.jpg
GEO:34.0813133;-84.5206214
X-APPLE-STRUCTURED-LOCATION;VALUE=URI;X-ADDRESS=The Factory Church 9872 Main Street Woodstock GA 30188 United States;X-APPLE-RADIUS=500;X-TITLE=9872 Main Street:geo:-84.5206214,34.0813133
END:VEVENT
BEGIN:VEVENT
DTSTART;VALUE=DATE:20190323
DTEND;VALUE=DATE:20190421
DTSTAMP:20260422T164248
CREATED:20190323T141320Z
LAST-MODIFIED:20190323T141320Z
UID:12707-1553299200-1555804799@www.thefactoryministries.org
SUMMARY:Serve Others on Easter
DESCRIPTION:Help Us Serve Others on Easter \nWe are encouraging our Factory family to serve one service and attend one service on Easter. If you are willing to help\, even if you’ve never served at The Factory before\, we’d love to have you. \n[maxbutton id=”74″ ]
URL:https://www.thefactoryministries.org/event/serve-others-on-easter/
LOCATION:The Factory Church\, 9872 Main Street\, Woodstock\, GA\, 30188\, United States
ATTACH;FMTTYPE=image/jpeg:https://www.thefactoryministries.org/wp-content/uploads/2019/03/Easter-2019.jpg
GEO:34.0813133;-84.5206214
X-APPLE-STRUCTURED-LOCATION;VALUE=URI;X-ADDRESS=The Factory Church 9872 Main Street Woodstock GA 30188 United States;X-APPLE-RADIUS=500;X-TITLE=9872 Main Street:geo:-84.5206214,34.0813133
END:VEVENT
BEGIN:VEVENT
DTSTART;TZID=America/New_York:20190322T180000
DTEND;TZID=America/New_York:20190322T210000
DTSTAMP:20260422T164248
CREATED:20190224T103110Z
LAST-MODIFIED:20190224T103110Z
UID:12561-1553277600-1553288400@www.thefactoryministries.org
SUMMARY:Men of Action March Madness
DESCRIPTION:Guys\, join us for some food and some basketball on Friday\, March 22nd from 6 – 9pm. \nBring your kids and come ready to have some fun! \nSign up below\, on the App\, or in the lobby. \n[maxbutton id=”73″ ]
URL:https://www.thefactoryministries.org/event/men-of-action-march-madness/
LOCATION:The Factory Church\, 9872 Main Street\, Woodstock\, GA\, 30188\, United States
ATTACH;FMTTYPE=image/jpeg:https://www.thefactoryministries.org/wp-content/uploads/2019/02/MOAMarch.jpg
GEO:34.0813133;-84.5206214
X-APPLE-STRUCTURED-LOCATION;VALUE=URI;X-ADDRESS=The Factory Church 9872 Main Street Woodstock GA 30188 United States;X-APPLE-RADIUS=500;X-TITLE=9872 Main Street:geo:-84.5206214,34.0813133
END:VEVENT
BEGIN:VEVENT
DTSTART;VALUE=DATE:20190317
DTEND;VALUE=DATE:20190318
DTSTAMP:20260422T164248
CREATED:20190310T055707Z
LAST-MODIFIED:20190310T062142Z
UID:12601-1552780800-1552867199@www.thefactoryministries.org
SUMMARY:Worship Sunday
DESCRIPTION:Back by popular demand\, we are having a Worship Sunday\, next Sunday\, March 17th at all three services. \n\n\nSo invite your friends and family and come ready to have fun\, to dance and sing praises to our amazing God. \nThis is one Sunday you will not want to miss!
URL:https://www.thefactoryministries.org/event/worship-sunday/
LOCATION:The Factory Church\, 9872 Main Street\, Woodstock\, GA\, 30188\, United States
ATTACH;FMTTYPE=image/jpeg:https://www.thefactoryministries.org/wp-content/uploads/2019/03/WorshipSunday.jpg
GEO:34.0813133;-84.5206214
X-APPLE-STRUCTURED-LOCATION;VALUE=URI;X-ADDRESS=The Factory Church 9872 Main Street Woodstock GA 30188 United States;X-APPLE-RADIUS=500;X-TITLE=9872 Main Street:geo:-84.5206214,34.0813133
END:VEVENT
BEGIN:VEVENT
DTSTART;VALUE=DATE:20190310
DTEND;VALUE=DATE:20190324
DTSTAMP:20260422T164248
CREATED:20190310T024143Z
LAST-MODIFIED:20190310T024143Z
UID:12592-1552176000-1553385599@www.thefactoryministries.org
SUMMARY:Tornado Relief Drive
DESCRIPTION:The Compassion Team is collecting items for the Alabama tornado victims. \nWe are collecting diapers\, wipes\, baby formula\, baby bottles\, granola bars\, bottled water\, new hygiene products\, feminine products and non-perishable (and not expired) food items. \nPlease bring them to the church and drop in the trailer by March 23rd. \n**Please note\, we are not collecting clothing as neither we\, nor the churches we are partnering with\, have room to store them. Thank you.**
URL:https://www.thefactoryministries.org/event/tornado-relief-drive/
LOCATION:The Factory Church\, 9872 Main Street\, Woodstock\, GA\, 30188\, United States
ATTACH;FMTTYPE=image/jpeg:https://www.thefactoryministries.org/wp-content/uploads/2019/03/TornadoRelief.jpg
GEO:34.0813133;-84.5206214
X-APPLE-STRUCTURED-LOCATION;VALUE=URI;X-ADDRESS=The Factory Church 9872 Main Street Woodstock GA 30188 United States;X-APPLE-RADIUS=500;X-TITLE=9872 Main Street:geo:-84.5206214,34.0813133
END:VEVENT
BEGIN:VEVENT
DTSTART;VALUE=DATE:20190209
DTEND;VALUE=DATE:20190218
DTSTAMP:20260422T164248
CREATED:20190209T141557Z
LAST-MODIFIED:20190209T141653Z
UID:12506-1549670400-1550447999@www.thefactoryministries.org
SUMMARY:Prison Ministry
DESCRIPTION:We are looking for committed people who have a heart to serve and mentor kids that are incarcerated at the Marietta Youth Detention Center. \nIf you are that person\, or if you would like more information about serving with our Prison Ministry\, please let us know below. \n[maxbutton id=”36″ ]
URL:https://www.thefactoryministries.org/event/prison-ministry/
LOCATION:GA
ATTACH;FMTTYPE=image/png:https://www.thefactoryministries.org/wp-content/uploads/2019/02/PrisonMin.png
END:VEVENT
BEGIN:VEVENT
DTSTART;TZID=America/New_York:20190201T180000
DTEND;TZID=America/New_York:20190201T210000
DTSTAMP:20260422T164248
CREATED:20190105T204354Z
LAST-MODIFIED:20190107T132007Z
UID:11275-1549044000-1549054800@www.thefactoryministries.org
SUMMARY:Men of Action Conference
DESCRIPTION:We’ve always been taught there is no “i” in team come find out there actually IS an “i” in TEAM.\nYou’ll learn it is okay to focus on yourself and your personal journey with Christ as a man to have a better life. \nJoin us for worship and fellowship on Feb. 1 from 6 p.m. – 9 p.m. (dinner) and come back for breakfast the next morning\, Feb. 2 from 8:30-a.m. – 12 noon.\n\n\nThe cost is $20 which includes:  Dinner\, Breakfast\, a long sleeve shirt and study materials. \nYou can register through the link below and in the lobby using the sign-up sheet.\nYou can pay through the app but it is not mandatory to pay the $20. \n\n\n[maxbutton id=”59″ ]
URL:https://www.thefactoryministries.org/event/men-of-action-conference/2019-02-01/
LOCATION:The Factory Church\, 9872 Main Street\, Woodstock\, GA\, 30188\, United States
ATTACH;FMTTYPE=image/jpeg:https://www.thefactoryministries.org/wp-content/uploads/2019/01/IMG_5471.jpg
GEO:34.0813133;-84.5206214
X-APPLE-STRUCTURED-LOCATION;VALUE=URI;X-ADDRESS=The Factory Church 9872 Main Street Woodstock GA 30188 United States;X-APPLE-RADIUS=500;X-TITLE=9872 Main Street:geo:-84.5206214,34.0813133
END:VEVENT
BEGIN:VEVENT
DTSTART;TZID=America/New_York:20190126T100000
DTEND;TZID=America/New_York:20190126T100000
DTSTAMP:20260422T164248
CREATED:20181229T135239Z
LAST-MODIFIED:20190118T214513Z
UID:11263-1548496800-1548496800@www.thefactoryministries.org
SUMMARY:Bible Teaching Seminar
DESCRIPTION:Do you believe that God has a call on your life to teach God’s word? \nWould you like to know how to study for\, and craft a sermon? \nThen join Pastor Keith on Sat.\, Jan. 26th\, 10am at The Factory for your first look at what it takes to prepare and deliver an engaging message. \nTo register\, sign up on your Connect Card\, below\, or in the lobby. \n[maxbutton id=”71″ ]
URL:https://www.thefactoryministries.org/event/bible-teaching-seminar/
LOCATION:The Factory Church\, 9872 Main Street\, Woodstock\, GA\, 30188\, United States
ATTACH;FMTTYPE=image/jpeg:https://www.thefactoryministries.org/wp-content/uploads/2018/12/BibleTeaching.jpg
GEO:34.0813133;-84.5206214
X-APPLE-STRUCTURED-LOCATION;VALUE=URI;X-ADDRESS=The Factory Church 9872 Main Street Woodstock GA 30188 United States;X-APPLE-RADIUS=500;X-TITLE=9872 Main Street:geo:-84.5206214,34.0813133
END:VEVENT
BEGIN:VEVENT
DTSTART;VALUE=DATE:20190113
DTEND;VALUE=DATE:20190114
DTSTAMP:20260422T164248
CREATED:20190105T205920Z
LAST-MODIFIED:20190105T205920Z
UID:11289-1547337600-1547423999@www.thefactoryministries.org
SUMMARY:Kid's Pajama Party
DESCRIPTION:Next Sunday\, Jan. 13th\, as part of our anniversary celebration we have something fun planned just for our kids. \nBring your birth through 5th graders to church in their jammies and we’ll provide the rest of the fun. \nWe’ll have face painters\, we’ll play games\, and we even have some very special guests coming that your kids will love. \nThis is one Sunday they won’t want to miss!
URL:https://www.thefactoryministries.org/event/kids-pajama-party/
LOCATION:The Factory Church\, 9872 Main Street\, Woodstock\, GA\, 30188\, United States
ATTACH;FMTTYPE=image/jpeg:https://www.thefactoryministries.org/wp-content/uploads/2019/01/pajamaparty.jpg
GEO:34.0813133;-84.5206214
X-APPLE-STRUCTURED-LOCATION;VALUE=URI;X-ADDRESS=The Factory Church 9872 Main Street Woodstock GA 30188 United States;X-APPLE-RADIUS=500;X-TITLE=9872 Main Street:geo:-84.5206214,34.0813133
END:VEVENT
BEGIN:VEVENT
DTSTART;TZID=America/New_York:20190110T190000
DTEND;TZID=America/New_York:20190110T200000
DTSTAMP:20260422T164248
CREATED:20181208T124941Z
LAST-MODIFIED:20181208T125433Z
UID:11107-1547146800-1547150400@www.thefactoryministries.org
SUMMARY:Global Missions
DESCRIPTION:Are you interested in being effective in ministry with a special focus on missions? \nStarting in January we are offering a monthly discipleship class with the goal of going on short term mission trips in US and abroad.\nWe will meet on the second Thursday of each month from 7-8pm. \n\nTopics we will discuss are\nKnowing the Word\nHearing Holy Spirit\nBeing a worshipper of God\nOperating in gifts of the Holy Spirit\nBeing a bold witness\n\nInterested? Register below. \n[maxbutton id=”68″]
URL:https://www.thefactoryministries.org/event/global-missions/2019-01-10/
LOCATION:The Factory Church\, 9872 Main Street\, Woodstock\, GA\, 30188\, United States
ATTACH;FMTTYPE=image/jpeg:https://www.thefactoryministries.org/wp-content/uploads/2018/12/GlobalMissios.jpg
GEO:34.0813133;-84.5206214
X-APPLE-STRUCTURED-LOCATION;VALUE=URI;X-ADDRESS=The Factory Church 9872 Main Street Woodstock GA 30188 United States;X-APPLE-RADIUS=500;X-TITLE=9872 Main Street:geo:-84.5206214,34.0813133
END:VEVENT
END:VCALENDAR