BEGIN:VCALENDAR
VERSION:2.0
PRODID:-//The Factory - ECPv6.15.20//NONSGML v1.0//EN
CALSCALE:GREGORIAN
METHOD:PUBLISH
X-WR-CALNAME:The Factory
X-ORIGINAL-URL:https://www.thefactoryministries.org
X-WR-CALDESC:Events for The Factory
REFRESH-INTERVAL;VALUE=DURATION:PT1H
X-Robots-Tag:noindex
X-PUBLISHED-TTL:PT1H
BEGIN:VTIMEZONE
TZID:America/New_York
BEGIN:DAYLIGHT
TZOFFSETFROM:-0500
TZOFFSETTO:-0400
TZNAME:EDT
DTSTART:20230312T070000
END:DAYLIGHT
BEGIN:STANDARD
TZOFFSETFROM:-0400
TZOFFSETTO:-0500
TZNAME:EST
DTSTART:20231105T060000
END:STANDARD
BEGIN:DAYLIGHT
TZOFFSETFROM:-0500
TZOFFSETTO:-0400
TZNAME:EDT
DTSTART:20240310T070000
END:DAYLIGHT
BEGIN:STANDARD
TZOFFSETFROM:-0400
TZOFFSETTO:-0500
TZNAME:EST
DTSTART:20241103T060000
END:STANDARD
BEGIN:DAYLIGHT
TZOFFSETFROM:-0500
TZOFFSETTO:-0400
TZNAME:EDT
DTSTART:20250309T070000
END:DAYLIGHT
BEGIN:STANDARD
TZOFFSETFROM:-0400
TZOFFSETTO:-0500
TZNAME:EST
DTSTART:20251102T060000
END:STANDARD
END:VTIMEZONE
BEGIN:VEVENT
DTSTART;TZID=America/New_York:20240914T083000
DTEND;TZID=America/New_York:20240914T123000
DTSTAMP:20260419T221411
CREATED:20240131T182951Z
LAST-MODIFIED:20251015T194748Z
UID:18169-1726302600-1726317000@www.thefactoryministries.org
SUMMARY:Downtown Feed the People
DESCRIPTION:We bring the hundreds of PB&J sandwiches that we made with us downtown to The Shrine of the Immaculate Conception where we help serve a hot meal and give out the sandwiches to several hundred hungry and homeless. You can either meet at The Factory at 7:30 am or meet us there at 8:30 am. The address is 48 M.L.K. Jr Dr SW\, Atlanta.
URL:https://www.thefactoryministries.org/event/downtown-feed-the-people/2024-09-14/
LOCATION:Shrine of the Immaculate Conception\, 48 M.L.K. Jr Dr SW\, Atlanta\, GA\, 30303\, United States
CATEGORIES:Compassion
END:VEVENT
BEGIN:VEVENT
DTSTART;TZID=America/New_York:20240913T183000
DTEND;TZID=America/New_York:20240913T200000
DTSTAMP:20260419T221411
CREATED:20240131T182710Z
LAST-MODIFIED:20251015T193411Z
UID:18166-1726252200-1726257600@www.thefactoryministries.org
SUMMARY:Sandwich Night - Feed the People Outreach
DESCRIPTION:We meet at The Factory at 6:30pm sharp to make a few hundred peanut butter and jelly sandwiches to give to the homeless and hungry in Atlanta. This is a great event to bring the kids!
URL:https://www.thefactoryministries.org/event/sandwich-night-feed-the-people-outreach/2024-09-13/
LOCATION:The Factory Church\, 9872 Main Street\, Woodstock\, GA\, 30188\, United States
CATEGORIES:Compassion
GEO:34.0813133;-84.5206214
X-APPLE-STRUCTURED-LOCATION;VALUE=URI;X-ADDRESS=The Factory Church 9872 Main Street Woodstock GA 30188 United States;X-APPLE-RADIUS=500;X-TITLE=9872 Main Street:geo:-84.5206214,34.0813133
END:VEVENT
BEGIN:VEVENT
DTSTART;VALUE=DATE:20240913
DTEND;VALUE=DATE:20240916
DTSTAMP:20260419T221411
CREATED:20240904T181552Z
LAST-MODIFIED:20240904T181552Z
UID:18893-1726185600-1726444799@www.thefactoryministries.org
SUMMARY:Youth Fall Retreat
DESCRIPTION:Location: Camp Westminster (Conyers\, GA)2412 Lake Rockaway Rd NW Conyers GA\, 30012\nDates: September 13th-15th\nPhone (770) 483-2225\nRetreat Email retreats@campwestminster.org\n\n\n\n\n\n\n\n\nPlease join us in praying and preparing for our students to encounter the Holy Spirit in a way that changes them forever…we know He will! \nFor additional info or any questions email us here or text us at 770-563-8319!
URL:https://www.thefactoryministries.org/event/youth-fall-retreat/
LOCATION:GA
CATEGORIES:YOUTH
END:VEVENT
BEGIN:VEVENT
DTSTART;TZID=America/New_York:20240911T183000
DTEND;TZID=America/New_York:20240911T203000
DTSTAMP:20260419T221411
CREATED:20240302T143956Z
LAST-MODIFIED:20251015T201529Z
UID:18899-1726079400-1726086600@www.thefactoryministries.org
SUMMARY:YTH Wednesdays
DESCRIPTION:Join us Wednesdays from for games\, fellowship\, a relevant message\, and life-giving small groups! \nRegister your middle and high school students below. \n[maxbutton id=”84″ ] \n 
URL:https://www.thefactoryministries.org/event/yth-wednesdays/2024-09-11/
LOCATION:The Factory Church\, 9872 Main Street\, Woodstock\, GA\, 30188\, United States
CATEGORIES:YOUTH
GEO:34.0813133;-84.5206214
X-APPLE-STRUCTURED-LOCATION;VALUE=URI;X-ADDRESS=The Factory Church 9872 Main Street Woodstock GA 30188 United States;X-APPLE-RADIUS=500;X-TITLE=9872 Main Street:geo:-84.5206214,34.0813133
END:VEVENT
BEGIN:VEVENT
DTSTART;TZID=America/New_York:20240911T060000
DTEND;TZID=America/New_York:20240911T070000
DTSTAMP:20260419T221411
CREATED:20240302T144827Z
LAST-MODIFIED:20251015T200851Z
UID:18304-1726034400-1726038000@www.thefactoryministries.org
SUMMARY:Wednesday Morning Prayer
DESCRIPTION:Every Wednesday\, we will be meeting for prayer from 6am to 7am.\nStop by on your way to work and stay for as long as you can.
URL:https://www.thefactoryministries.org/event/wednesday-morning-prayer-09-11/2024-09-11/
LOCATION:The Factory Church\, 9872 Main Street\, Woodstock\, GA\, 30188\, United States
CATEGORIES:Compassion
GEO:34.0813133;-84.5206214
X-APPLE-STRUCTURED-LOCATION;VALUE=URI;X-ADDRESS=The Factory Church 9872 Main Street Woodstock GA 30188 United States;X-APPLE-RADIUS=500;X-TITLE=9872 Main Street:geo:-84.5206214,34.0813133
END:VEVENT
BEGIN:VEVENT
DTSTART;TZID=America/New_York:20240907T073000
DTEND;TZID=America/New_York:20240907T210000
DTSTAMP:20260419T221411
CREATED:20240131T184522Z
LAST-MODIFIED:20241001T170528Z
UID:18194-1725694200-1725742800@www.thefactoryministries.org
SUMMARY:Mpact Mens Ministry
DESCRIPTION:Join us for Breakfast\, Fellowship\, Worship and the Word.
URL:https://www.thefactoryministries.org/event/mpact-mens-ministry/2024-09-07/
LOCATION:The Factory Church\, 9872 Main Street\, Woodstock\, GA\, 30188\, United States
CATEGORIES:Mpact Mens Ministry
GEO:34.0813133;-84.5206214
X-APPLE-STRUCTURED-LOCATION;VALUE=URI;X-ADDRESS=The Factory Church 9872 Main Street Woodstock GA 30188 United States;X-APPLE-RADIUS=500;X-TITLE=9872 Main Street:geo:-84.5206214,34.0813133
END:VEVENT
BEGIN:VEVENT
DTSTART;TZID=America/New_York:20240905T190000
DTEND;TZID=America/New_York:20240905T190000
DTSTAMP:20260419T221411
CREATED:20240904T172529Z
LAST-MODIFIED:20240904T172529Z
UID:18715-1725562800-1725562800@www.thefactoryministries.org
SUMMARY:Africa Clothing Donations
DESCRIPTION:We are collecting donations at the church on Thursday in September from 7:00 PM to 8:00 PM for our upcoming mission trip to Africa. We are specifically asking for the following items: new underwear (all sizes)\, new socks (all sizes)\, gently used or new clothing for babies\, children\, women\, and men (all sizes): pants\, t-shirts\, long dresses\, long sleeve shirts\, lightweight shoes only: flip-flops\, crocs\, and sandals (no heavy shoes) Due to limited suitcase space\, please only bring the items listed. Your support is greatly appreciated!
URL:https://www.thefactoryministries.org/event/africa-clothing-donations/
LOCATION:The Factory Church\, 9872 Main Street\, Woodstock\, GA\, 30188\, United States
CATEGORIES:Compassion
GEO:34.0813133;-84.5206214
X-APPLE-STRUCTURED-LOCATION;VALUE=URI;X-ADDRESS=The Factory Church 9872 Main Street Woodstock GA 30188 United States;X-APPLE-RADIUS=500;X-TITLE=9872 Main Street:geo:-84.5206214,34.0813133
END:VEVENT
BEGIN:VEVENT
DTSTART;TZID=America/New_York:20240904T183000
DTEND;TZID=America/New_York:20240904T203000
DTSTAMP:20260419T221411
CREATED:20240302T143956Z
LAST-MODIFIED:20251015T201527Z
UID:18898-1725474600-1725481800@www.thefactoryministries.org
SUMMARY:YTH Wednesdays
DESCRIPTION:Join us Wednesdays from for games\, fellowship\, a relevant message\, and life-giving small groups! \nRegister your middle and high school students below. \n[maxbutton id=”84″ ] \n 
URL:https://www.thefactoryministries.org/event/yth-wednesdays/2024-09-04/
LOCATION:The Factory Church\, 9872 Main Street\, Woodstock\, GA\, 30188\, United States
CATEGORIES:YOUTH
GEO:34.0813133;-84.5206214
X-APPLE-STRUCTURED-LOCATION;VALUE=URI;X-ADDRESS=The Factory Church 9872 Main Street Woodstock GA 30188 United States;X-APPLE-RADIUS=500;X-TITLE=9872 Main Street:geo:-84.5206214,34.0813133
END:VEVENT
BEGIN:VEVENT
DTSTART;TZID=America/New_York:20240904T183000
DTEND;TZID=America/New_York:20240904T203000
DTSTAMP:20260419T221411
CREATED:20240302T143912Z
LAST-MODIFIED:20240904T172428Z
UID:18289-1725474600-1725481800@www.thefactoryministries.org
SUMMARY:YTH Wednesdays
DESCRIPTION:Join us Wednesdays from for games\, fellowship\, a relevant message\, and life-giving small groups! \nRegister your middle and high school students below. \n[maxbutton id=”84″ ] \n 
URL:https://www.thefactoryministries.org/event/yth-wednesdays-09-04/
LOCATION:The Factory Church\, 9872 Main Street\, Woodstock\, GA\, 30188\, United States
CATEGORIES:YOUTH
GEO:34.0813133;-84.5206214
X-APPLE-STRUCTURED-LOCATION;VALUE=URI;X-ADDRESS=The Factory Church 9872 Main Street Woodstock GA 30188 United States;X-APPLE-RADIUS=500;X-TITLE=9872 Main Street:geo:-84.5206214,34.0813133
END:VEVENT
BEGIN:VEVENT
DTSTART;TZID=America/New_York:20240904T170000
DTEND;TZID=America/New_York:20240904T190000
DTSTAMP:20260419T221411
CREATED:20240131T183520Z
LAST-MODIFIED:20240904T191205Z
UID:18176-1725469200-1725476400@www.thefactoryministries.org
SUMMARY:Safehouse Outreach
DESCRIPTION:If you’d like to join us as we provide a meal to the hungry and homeless in Atlanta\, meet us at The Factory at 4:00 pm or directly at Safehouse at 89 Ellis Street NE\, Atlanta by 5:00pm. \n  \nWe need volunteers to serve food and mingle with the guests.
URL:https://www.thefactoryministries.org/event/safehouse-outreach-3/2024-09-04/
LOCATION:Safe House\, 89 Ellis Street\, Atlanta\, GA\, 30303\, United States
CATEGORIES:Compassion
END:VEVENT
BEGIN:VEVENT
DTSTART;TZID=America/New_York:20240904T060000
DTEND;TZID=America/New_York:20240904T070000
DTSTAMP:20260419T221411
CREATED:20240302T144742Z
LAST-MODIFIED:20240904T172342Z
UID:18301-1725429600-1725433200@www.thefactoryministries.org
SUMMARY:Wednesday Morning Prayer
DESCRIPTION:Every Wednesday\, we will be meeting for prayer from 6am to 7am.\nStop by on your way to work and stay for as long as you can.
URL:https://www.thefactoryministries.org/event/wednesday-morning-prayer-09-04/
LOCATION:The Factory Church\, 9872 Main Street\, Woodstock\, GA\, 30188\, United States
CATEGORIES:Compassion
GEO:34.0813133;-84.5206214
X-APPLE-STRUCTURED-LOCATION;VALUE=URI;X-ADDRESS=The Factory Church 9872 Main Street Woodstock GA 30188 United States;X-APPLE-RADIUS=500;X-TITLE=9872 Main Street:geo:-84.5206214,34.0813133
END:VEVENT
BEGIN:VEVENT
DTSTART;TZID=America/New_York:20240828T183000
DTEND;TZID=America/New_York:20240828T203000
DTSTAMP:20260419T221411
CREATED:20240302T143956Z
LAST-MODIFIED:20251015T201524Z
UID:18897-1724869800-1724877000@www.thefactoryministries.org
SUMMARY:YTH Wednesdays
DESCRIPTION:Join us Wednesdays from for games\, fellowship\, a relevant message\, and life-giving small groups! \nRegister your middle and high school students below. \n[maxbutton id=”84″ ] \n 
URL:https://www.thefactoryministries.org/event/yth-wednesdays/2024-08-28/
LOCATION:The Factory Church\, 9872 Main Street\, Woodstock\, GA\, 30188\, United States
CATEGORIES:YOUTH
GEO:34.0813133;-84.5206214
X-APPLE-STRUCTURED-LOCATION;VALUE=URI;X-ADDRESS=The Factory Church 9872 Main Street Woodstock GA 30188 United States;X-APPLE-RADIUS=500;X-TITLE=9872 Main Street:geo:-84.5206214,34.0813133
END:VEVENT
BEGIN:VEVENT
DTSTART;TZID=America/New_York:20240828T183000
DTEND;TZID=America/New_York:20240828T203000
DTSTAMP:20260419T221411
CREATED:20240131T191822Z
LAST-MODIFIED:20240805T234453Z
UID:18206-1724869800-1724877000@www.thefactoryministries.org
SUMMARY:YTH Wednesdays
DESCRIPTION:Join us Wednesdays from for games\, fellowship\, a relevant message\, and life-giving small groups! \nRegister your middle and high school students below. \n[maxbutton id=”84″ ] \n 
URL:https://www.thefactoryministries.org/event/yth-wednesdays-08-28/
LOCATION:The Factory Church\, 9872 Main Street\, Woodstock\, GA\, 30188\, United States
CATEGORIES:YOUTH
GEO:34.0813133;-84.5206214
X-APPLE-STRUCTURED-LOCATION;VALUE=URI;X-ADDRESS=The Factory Church 9872 Main Street Woodstock GA 30188 United States;X-APPLE-RADIUS=500;X-TITLE=9872 Main Street:geo:-84.5206214,34.0813133
END:VEVENT
BEGIN:VEVENT
DTSTART;TZID=America/New_York:20240828T060000
DTEND;TZID=America/New_York:20240828T070000
DTSTAMP:20260419T221411
CREATED:20240302T144252Z
LAST-MODIFIED:20240805T234534Z
UID:18298-1724824800-1724828400@www.thefactoryministries.org
SUMMARY:Wednesday Morning Prayer
DESCRIPTION:Every Wednesday\, we will be meeting for prayer from 6am to 7am.\nStop by on your way to work and stay for as long as you can.
URL:https://www.thefactoryministries.org/event/wednesday-morning-prayer-08-28/
LOCATION:The Factory Church\, 9872 Main Street\, Woodstock\, GA\, 30188\, United States
CATEGORIES:Compassion
GEO:34.0813133;-84.5206214
X-APPLE-STRUCTURED-LOCATION;VALUE=URI;X-ADDRESS=The Factory Church 9872 Main Street Woodstock GA 30188 United States;X-APPLE-RADIUS=500;X-TITLE=9872 Main Street:geo:-84.5206214,34.0813133
END:VEVENT
BEGIN:VEVENT
DTSTART;TZID=America/New_York:20240824T100000
DTEND;TZID=America/New_York:20240824T120000
DTSTAMP:20260419T221411
CREATED:20240805T234917Z
LAST-MODIFIED:20240805T234917Z
UID:18647-1724493600-1724500800@www.thefactoryministries.org
SUMMARY:Discipleship Group Leader Training
DESCRIPTION:If you lead a small group or are interested in leading a small group Join us at the Factory August 24th at 10am. Breakfast will be provided.
URL:https://www.thefactoryministries.org/event/discipleship-group-leader-training/
LOCATION:The Factory Church\, 9872 Main Street\, Woodstock\, GA\, 30188\, United States
GEO:34.0813133;-84.5206214
X-APPLE-STRUCTURED-LOCATION;VALUE=URI;X-ADDRESS=The Factory Church 9872 Main Street Woodstock GA 30188 United States;X-APPLE-RADIUS=500;X-TITLE=9872 Main Street:geo:-84.5206214,34.0813133
END:VEVENT
BEGIN:VEVENT
DTSTART;TZID=America/New_York:20240821T183000
DTEND;TZID=America/New_York:20240821T203000
DTSTAMP:20260419T221411
CREATED:20240302T144047Z
LAST-MODIFIED:20240805T234328Z
UID:18295-1724265000-1724272200@www.thefactoryministries.org
SUMMARY:YTH Wednesdays
DESCRIPTION:Join us Wednesdays from for games\, fellowship\, a relevant message\, and life-giving small groups! \nRegister your middle and high school students below. \n[maxbutton id=”84″ ] \n 
URL:https://www.thefactoryministries.org/event/yth-wednesdays-08-21/
LOCATION:The Factory Church\, 9872 Main Street\, Woodstock\, GA\, 30188\, United States
CATEGORIES:YOUTH
GEO:34.0813133;-84.5206214
X-APPLE-STRUCTURED-LOCATION;VALUE=URI;X-ADDRESS=The Factory Church 9872 Main Street Woodstock GA 30188 United States;X-APPLE-RADIUS=500;X-TITLE=9872 Main Street:geo:-84.5206214,34.0813133
END:VEVENT
BEGIN:VEVENT
DTSTART;TZID=America/New_York:20240821T183000
DTEND;TZID=America/New_York:20240821T203000
DTSTAMP:20260419T221411
CREATED:20240302T143956Z
LAST-MODIFIED:20251015T201522Z
UID:18896-1724265000-1724272200@www.thefactoryministries.org
SUMMARY:YTH Wednesdays
DESCRIPTION:Join us Wednesdays from for games\, fellowship\, a relevant message\, and life-giving small groups! \nRegister your middle and high school students below. \n[maxbutton id=”84″ ] \n 
URL:https://www.thefactoryministries.org/event/yth-wednesdays/2024-08-21/
LOCATION:The Factory Church\, 9872 Main Street\, Woodstock\, GA\, 30188\, United States
CATEGORIES:YOUTH
GEO:34.0813133;-84.5206214
X-APPLE-STRUCTURED-LOCATION;VALUE=URI;X-ADDRESS=The Factory Church 9872 Main Street Woodstock GA 30188 United States;X-APPLE-RADIUS=500;X-TITLE=9872 Main Street:geo:-84.5206214,34.0813133
END:VEVENT
BEGIN:VEVENT
DTSTART;TZID=America/New_York:20240821T060000
DTEND;TZID=America/New_York:20240821T070000
DTSTAMP:20260419T221411
CREATED:20240302T144912Z
LAST-MODIFIED:20240805T234236Z
UID:18307-1724220000-1724223600@www.thefactoryministries.org
SUMMARY:Wednesday Morning Prayer
DESCRIPTION:Every Wednesday\, we will be meeting for prayer from 6am to 7am.\nStop by on your way to work and stay for as long as you can.
URL:https://www.thefactoryministries.org/event/wednesday-morning-prayer-08-21/
LOCATION:The Factory Church\, 9872 Main Street\, Woodstock\, GA\, 30188\, United States
CATEGORIES:Compassion
GEO:34.0813133;-84.5206214
X-APPLE-STRUCTURED-LOCATION;VALUE=URI;X-ADDRESS=The Factory Church 9872 Main Street Woodstock GA 30188 United States;X-APPLE-RADIUS=500;X-TITLE=9872 Main Street:geo:-84.5206214,34.0813133
END:VEVENT
BEGIN:VEVENT
DTSTART;TZID=America/New_York:20240818T130000
DTEND;TZID=America/New_York:20240818T143000
DTSTAMP:20260419T221411
CREATED:20240805T234724Z
LAST-MODIFIED:20240805T234724Z
UID:18644-1723986000-1723991400@www.thefactoryministries.org
SUMMARY:Prison Team Meeting
DESCRIPTION:In this meeting we will discuss the upcoming opportunities to serve our community.
URL:https://www.thefactoryministries.org/event/prison-team-meeting/
LOCATION:The Factory Church\, 9872 Main Street\, Woodstock\, GA\, 30188\, United States
CATEGORIES:Prison MInistry
GEO:34.0813133;-84.5206214
X-APPLE-STRUCTURED-LOCATION;VALUE=URI;X-ADDRESS=The Factory Church 9872 Main Street Woodstock GA 30188 United States;X-APPLE-RADIUS=500;X-TITLE=9872 Main Street:geo:-84.5206214,34.0813133
END:VEVENT
BEGIN:VEVENT
DTSTART;TZID=America/New_York:20240817T083000
DTEND;TZID=America/New_York:20240817T123000
DTSTAMP:20260419T221411
CREATED:20240131T183928Z
LAST-MODIFIED:20251015T203157Z
UID:18184-1723883400-1723897800@www.thefactoryministries.org
SUMMARY:Drive Through Grocery Distribution
DESCRIPTION:This event is at The Factory where we provide pantry goods\, meats\, produce and dairy items to anyone in need. Children are welcome to serve\, but they must be old enough to not to run around in the parking lot. It is held entirely outdoors so dress accordingly. \n  \nVolunteers meet at 8:30am.
URL:https://www.thefactoryministries.org/event/drive-through-grocery-distribution/2024-08-17/
LOCATION:The Factory Church\, 9872 Main Street\, Woodstock\, GA\, 30188\, United States
CATEGORIES:Compassion
GEO:34.0813133;-84.5206214
X-APPLE-STRUCTURED-LOCATION;VALUE=URI;X-ADDRESS=The Factory Church 9872 Main Street Woodstock GA 30188 United States;X-APPLE-RADIUS=500;X-TITLE=9872 Main Street:geo:-84.5206214,34.0813133
END:VEVENT
BEGIN:VEVENT
DTSTART;TZID=America/New_York:20240814T183000
DTEND;TZID=America/New_York:20240814T203000
DTSTAMP:20260419T221411
CREATED:20240302T143956Z
LAST-MODIFIED:20251015T201209Z
UID:18292-1723660200-1723667400@www.thefactoryministries.org
SUMMARY:YTH Wednesdays
DESCRIPTION:Join us Wednesdays from for games\, fellowship\, a relevant message\, and life-giving small groups! \nRegister your middle and high school students below. \n[maxbutton id=”84″ ] \n 
URL:https://www.thefactoryministries.org/event/yth-wednesdays/2024-08-14/
LOCATION:The Factory Church\, 9872 Main Street\, Woodstock\, GA\, 30188\, United States
CATEGORIES:YOUTH
GEO:34.0813133;-84.5206214
X-APPLE-STRUCTURED-LOCATION;VALUE=URI;X-ADDRESS=The Factory Church 9872 Main Street Woodstock GA 30188 United States;X-APPLE-RADIUS=500;X-TITLE=9872 Main Street:geo:-84.5206214,34.0813133
END:VEVENT
BEGIN:VEVENT
DTSTART;TZID=America/New_York:20240811T133000
DTEND;TZID=America/New_York:20240811T150000
DTSTAMP:20260419T221411
CREATED:20240805T233904Z
LAST-MODIFIED:20240805T233904Z
UID:18640-1723383000-1723388400@www.thefactoryministries.org
SUMMARY:Baptism Bash
DESCRIPTION:One of our biggest events of the year! Baptism Bash 2024! We  bring food trucks\, ice cream and a swimming pool to the parking lot to celebrate life change through baptism after the 11am service.
URL:https://www.thefactoryministries.org/event/baptism-bash-2/
LOCATION:The Factory Church\, 9872 Main Street\, Woodstock\, GA\, 30188\, United States
GEO:34.0813133;-84.5206214
X-APPLE-STRUCTURED-LOCATION;VALUE=URI;X-ADDRESS=The Factory Church 9872 Main Street Woodstock GA 30188 United States;X-APPLE-RADIUS=500;X-TITLE=9872 Main Street:geo:-84.5206214,34.0813133
END:VEVENT
BEGIN:VEVENT
DTSTART;TZID=America/New_York:20240525T140000
DTEND;TZID=America/New_York:20240525T180000
DTSTAMP:20260419T221411
CREATED:20240505T134744Z
LAST-MODIFIED:20240505T134744Z
UID:18445-1716645600-1716660000@www.thefactoryministries.org
SUMMARY:Factory Youth Field Day 2024
DESCRIPTION:School’s out! Meet us at JJ Biello Riverside Athletic Complex on the last day of school\, Sat May 25th\, for a night of food\, kickball and many other games! This is a FREE event! Wear athletic clothes that you don’t mind getting dirth & bring a friend with you. \nPlease RSVP by texting “Field Day” to 770-563-8319
URL:https://www.thefactoryministries.org/event/factory-youth-field-day-2024/
LOCATION:GA
CATEGORIES:YOUTH
END:VEVENT
BEGIN:VEVENT
DTSTART;TZID=America/New_York:20240525T100000
DTEND;TZID=America/New_York:20240525T120000
DTSTAMP:20260419T221411
CREATED:20240131T184133Z
LAST-MODIFIED:20240505T134504Z
UID:18187-1716631200-1716638400@www.thefactoryministries.org
SUMMARY:Nursing Home Outreach
DESCRIPTION:Here you can be part of a team that will show some of God’s love to the senior residents and staff of the Woodstock Nursing home. We meet at the nursing home\, located at 105 Arnold Mill Road\, Woodstock at 10am. We are limited to 10 volunteers so please RSVP to this email if you would like to participate. Also\, the nursing home prefers that we wear our red Watcha Gonna Do shirts. Volunteers must be over 16.
URL:https://www.thefactoryministries.org/event/nursing-home-outreach/
LOCATION:Woodstock Nursing and Rehabilitation Center\, 105 Arnold Mill Road\, Woodstock\, GA\, 30188\, United States
CATEGORIES:Compassion
END:VEVENT
BEGIN:VEVENT
DTSTART;TZID=America/New_York:20240427T080000
DTEND;TZID=America/New_York:20240427T140000
DTSTAMP:20260419T221411
CREATED:20240401T153520Z
LAST-MODIFIED:20240401T153542Z
UID:18389-1714204800-1714226400@www.thefactoryministries.org
SUMMARY:RMM Flea Market For a Cause
DESCRIPTION:Flea Market and Craft Fair will have something for everyone and it’s free to the public\, so come shop for treasures and enjoy the fellowship of the community.  It’s also for a cause; that cause is Resurrection Medical Mission\, Inc. (RMM\, Inc.)  We are a non-profit dedicated to providing life-saving medical care and supplies to our brothers and sisters in Kenya\, Africa who otherwise would have no access to healthcare.  Food\, drinks and treats will be available\, as well as an opportunity to learn more about RMM. Join us for a day of fun with a purpose.
URL:https://www.thefactoryministries.org/event/rmm-flea-market-for-a-cause/
LOCATION:The Factory Church\, 9872 Main Street\, Woodstock\, GA\, 30188\, United States
CATEGORIES:Compassion
GEO:34.0813133;-84.5206214
X-APPLE-STRUCTURED-LOCATION;VALUE=URI;X-ADDRESS=The Factory Church 9872 Main Street Woodstock GA 30188 United States;X-APPLE-RADIUS=500;X-TITLE=9872 Main Street:geo:-84.5206214,34.0813133
END:VEVENT
BEGIN:VEVENT
DTSTART;VALUE=DATE:20240405
DTEND;VALUE=DATE:20240408
DTSTAMP:20260419T221411
CREATED:20240205T183057Z
LAST-MODIFIED:20240205T183219Z
UID:18221-1712275200-1712534399@www.thefactoryministries.org
SUMMARY:YTH 2024 Spring Break Retreat
DESCRIPTION:From April 5th – April 7th\, we’ll be at Camp Highland in Ellijay\, GA. This weekend is an opportunity for middle & high school students to unplug from the crazy world around them and spend intentional time in fellowship with Jesus & others. We’ll have multiple worship services\, sermons\, and discipleship group discussions. Camp Highland also provides zip-lining\, rock-climbing\, ropes courses\, swimming\, and many other rec activities. Camp is $200 per person.  \nREGISTER HERE
URL:https://www.thefactoryministries.org/event/yth-2024-spring-break-retreat/
LOCATION:Camp Highland\, 1200 Camp Highland Rd\, Ellijay\, GA\, 30188\, United States
CATEGORIES:YOUTH
ATTACH;FMTTYPE=image/jpeg:https://www.thefactoryministries.org/wp-content/uploads/2024/01/Camp-Highland.jpeg
ORGANIZER;CN="Eric Dexter":MAILTO:eric@thefactoryministries.org
END:VEVENT
BEGIN:VEVENT
DTSTART;TZID=America/New_York:20240302T083000
DTEND;TZID=America/New_York:20240302T170000
DTSTAMP:20260419T221411
CREATED:20240131T192121Z
LAST-MODIFIED:20240131T192121Z
UID:18209-1709368200-1709398800@www.thefactoryministries.org
SUMMARY:MPACT Freedom In Christ Mens Conference
DESCRIPTION:Guys\, clear your calendars and make plans to join us on Saturday\, March 2nd from 8:30am to 5pm for a life-changing experience. Cost is $10 per person to help defer some of the cost of the conference.  However\, don’t let cost stop you from coming. \n  \nWe’re happy to pay the $10 for you to attend. Register Below \nhttps://thefactory.ccbchurch.com/goto/forms/264/responses/new
URL:https://www.thefactoryministries.org/event/mpact-freedom-in-christ-mens-conference/
LOCATION:The Factory Church\, 9872 Main Street\, Woodstock\, GA\, 30188\, United States
CATEGORIES:Mpact Mens Ministry
ATTACH;FMTTYPE=image/png:https://www.thefactoryministries.org/wp-content/uploads/2024/01/square-portrait-mpact.png
GEO:34.0813133;-84.5206214
X-APPLE-STRUCTURED-LOCATION;VALUE=URI;X-ADDRESS=The Factory Church 9872 Main Street Woodstock GA 30188 United States;X-APPLE-RADIUS=500;X-TITLE=9872 Main Street:geo:-84.5206214,34.0813133
END:VEVENT
BEGIN:VEVENT
DTSTART;VALUE=DATE:20240226
DTEND;VALUE=DATE:20240227
DTSTAMP:20260419T221411
CREATED:20240131T193409Z
LAST-MODIFIED:20240131T193409Z
UID:18217-1708905600-1708991999@www.thefactoryministries.org
SUMMARY:Discipleship Group Kickoff Week (FEB 26th)
DESCRIPTION:Our Discipleship groups are gearing up for an exciting season! Starting the week of February 26th\, we will offer groups with various studies\, meeting options\, and types of groups to cater to different preferences and schedules. This is a fantastic opportunity to connect with fellow believers\, deepen your understanding of God’s Word\, and grow in your faith. Registration is open on the church app or in the foyer\, so be sure to sign up for a group. \n  \nWe believe that these opportunities will not only help us to become students of Jesus\, but they will also strengthen the bonds of our community. Let’s commit to growing together as we seek the presence of God through prayer\, fasting\, Bible reading and fellowship.
URL:https://www.thefactoryministries.org/event/discipleship-group-kickoff-week-feb-26th/
LOCATION:The Factory Church\, 9872 Main Street\, Woodstock\, GA\, 30188\, United States
CATEGORIES:Discipleship Groups
GEO:34.0813133;-84.5206214
X-APPLE-STRUCTURED-LOCATION;VALUE=URI;X-ADDRESS=The Factory Church 9872 Main Street Woodstock GA 30188 United States;X-APPLE-RADIUS=500;X-TITLE=9872 Main Street:geo:-84.5206214,34.0813133
END:VEVENT
BEGIN:VEVENT
DTSTART;TZID=America/New_York:20240221T183000
DTEND;TZID=America/New_York:20240221T203000
DTSTAMP:20260419T221411
CREATED:20240131T191718Z
LAST-MODIFIED:20240206T151801Z
UID:18203-1708540200-1708547400@www.thefactoryministries.org
SUMMARY:NO YTH SERVICE
DESCRIPTION:Join us Wednesdays from for games\, fellowship\, a relevant message\, and life-giving small groups! \nRegister your middle and high school students below. \n[maxbutton id=”84″ ] \n 
URL:https://www.thefactoryministries.org/event/yth-wednesdays-02-21/
LOCATION:The Factory Church\, 9872 Main Street\, Woodstock\, GA\, 30188\, United States
CATEGORIES:YOUTH
ATTACH;FMTTYPE=image/png:https://www.thefactoryministries.org/wp-content/uploads/2018/07/4.png
GEO:34.0813133;-84.5206214
X-APPLE-STRUCTURED-LOCATION;VALUE=URI;X-ADDRESS=The Factory Church 9872 Main Street Woodstock GA 30188 United States;X-APPLE-RADIUS=500;X-TITLE=9872 Main Street:geo:-84.5206214,34.0813133
END:VEVENT
BEGIN:VEVENT
DTSTART;VALUE=DATE:20240219
DTEND;VALUE=DATE:20240331
DTSTAMP:20260419T221411
CREATED:20240131T193006Z
LAST-MODIFIED:20240131T193006Z
UID:18214-1708300800-1711843199@www.thefactoryministries.org
SUMMARY:Lent
DESCRIPTION:From Monday Feb 19th to Saturday March 30th we will be observing Lent as a church community. This period is dedicated to intentional prayer\, fasting and reading the Word. We encourage you to abstain from food and media items that hold personal significance to you\, allowing this time to be a season of reflection and spiritual growth. While there is a suggested Bible reading plan available in hardcopy and in the app\, Lent participation is an individual activity. There is no registration or chat group\, but we invite you to partake in this transformative journey as we prepare our hearts for the celebration of Resurrection Sunday.
URL:https://www.thefactoryministries.org/event/lent/
LOCATION:The Factory Church\, 9872 Main Street\, Woodstock\, GA\, 30188\, United States
GEO:34.0813133;-84.5206214
X-APPLE-STRUCTURED-LOCATION;VALUE=URI;X-ADDRESS=The Factory Church 9872 Main Street Woodstock GA 30188 United States;X-APPLE-RADIUS=500;X-TITLE=9872 Main Street:geo:-84.5206214,34.0813133
END:VEVENT
END:VCALENDAR