BEGIN:VCALENDAR
VERSION:2.0
PRODID:-//The Factory - ECPv6.15.20//NONSGML v1.0//EN
CALSCALE:GREGORIAN
METHOD:PUBLISH
X-WR-CALNAME:The Factory
X-ORIGINAL-URL:https://www.thefactoryministries.org
X-WR-CALDESC:Events for The Factory
REFRESH-INTERVAL;VALUE=DURATION:PT1H
X-Robots-Tag:noindex
X-PUBLISHED-TTL:PT1H
BEGIN:VTIMEZONE
TZID:America/New_York
BEGIN:DAYLIGHT
TZOFFSETFROM:-0500
TZOFFSETTO:-0400
TZNAME:EDT
DTSTART:20230312T070000
END:DAYLIGHT
BEGIN:STANDARD
TZOFFSETFROM:-0400
TZOFFSETTO:-0500
TZNAME:EST
DTSTART:20231105T060000
END:STANDARD
BEGIN:DAYLIGHT
TZOFFSETFROM:-0500
TZOFFSETTO:-0400
TZNAME:EDT
DTSTART:20240310T070000
END:DAYLIGHT
BEGIN:STANDARD
TZOFFSETFROM:-0400
TZOFFSETTO:-0500
TZNAME:EST
DTSTART:20241103T060000
END:STANDARD
BEGIN:DAYLIGHT
TZOFFSETFROM:-0500
TZOFFSETTO:-0400
TZNAME:EDT
DTSTART:20250309T070000
END:DAYLIGHT
BEGIN:STANDARD
TZOFFSETFROM:-0400
TZOFFSETTO:-0500
TZNAME:EST
DTSTART:20251102T060000
END:STANDARD
END:VTIMEZONE
BEGIN:VEVENT
DTSTART;TZID=America/New_York:20241018T173000
DTEND;TZID=America/New_York:20241018T190000
DTSTAMP:20260419T191326
CREATED:20240131T183814Z
LAST-MODIFIED:20240131T183814Z
UID:18979-1729272600-1729278000@www.thefactoryministries.org
SUMMARY:Second Chance Ministries - Feed the People @ Shady Grove
DESCRIPTION:Partnering with Second Chance Ministries\, we will be serving dinner to the hungry and homeless in the Kennesaw and Marietta area. This event is fully outdoors so dress for the weather. We will meet at Shady Grove Baptist Church\, 1654 Bells Ferry Road\, Marietta at 5:30 pm.
URL:https://www.thefactoryministries.org/event/second-chance-ministries-feed-the-people-shady-grove/2024-10-18/
LOCATION:Shady Grove Baptist Church\, 1654 Bells Ferry Road\, Marietta\, GA\, 30066\, United States
CATEGORIES:Compassion
END:VEVENT
BEGIN:VEVENT
DTSTART;TZID=America/New_York:20241017T183000
DTEND;TZID=America/New_York:20241017T194500
DTSTAMP:20260419T191326
CREATED:20240904T190430Z
LAST-MODIFIED:20240904T190430Z
UID:19095-1729189800-1729194300@www.thefactoryministries.org
SUMMARY:Factory Kids Volunteer Meeting
DESCRIPTION:Join us for a Monthly meeting of our Children’s ministry  team leaders.
URL:https://www.thefactoryministries.org/event/factory-kids-volunteer-meeting/2024-10-17/
LOCATION:The Factory Church\, 9872 Main Street\, Woodstock\, GA\, 30188\, United States
GEO:34.0813133;-84.5206214
X-APPLE-STRUCTURED-LOCATION;VALUE=URI;X-ADDRESS=The Factory Church 9872 Main Street Woodstock GA 30188 United States;X-APPLE-RADIUS=500;X-TITLE=9872 Main Street:geo:-84.5206214,34.0813133
END:VEVENT
BEGIN:VEVENT
DTSTART;TZID=America/New_York:20241016T183000
DTEND;TZID=America/New_York:20241016T203000
DTSTAMP:20260419T191326
CREATED:20240302T143956Z
LAST-MODIFIED:20251015T201544Z
UID:18904-1729103400-1729110600@www.thefactoryministries.org
SUMMARY:YTH Wednesdays
DESCRIPTION:Join us Wednesdays from for games\, fellowship\, a relevant message\, and life-giving small groups! \nRegister your middle and high school students below. \n[maxbutton id=”84″ ] \n 
URL:https://www.thefactoryministries.org/event/yth-wednesdays/2024-10-16/
LOCATION:The Factory Church\, 9872 Main Street\, Woodstock\, GA\, 30188\, United States
CATEGORIES:YOUTH
GEO:34.0813133;-84.5206214
X-APPLE-STRUCTURED-LOCATION;VALUE=URI;X-ADDRESS=The Factory Church 9872 Main Street Woodstock GA 30188 United States;X-APPLE-RADIUS=500;X-TITLE=9872 Main Street:geo:-84.5206214,34.0813133
END:VEVENT
BEGIN:VEVENT
DTSTART;TZID=America/New_York:20241016T060000
DTEND;TZID=America/New_York:20241016T070000
DTSTAMP:20260419T191326
CREATED:20240302T144827Z
LAST-MODIFIED:20240904T181044Z
UID:18722-1729058400-1729062000@www.thefactoryministries.org
SUMMARY:Wednesday Morning Prayer
DESCRIPTION:Every Wednesday\, we will be meeting for prayer from 6am to 7am.\nStop by on your way to work and stay for as long as you can.
URL:https://www.thefactoryministries.org/event/wednesday-morning-prayer-09-11/2024-10-16/
LOCATION:The Factory Church\, 9872 Main Street\, Woodstock\, GA\, 30188\, United States
CATEGORIES:Compassion
GEO:34.0813133;-84.5206214
X-APPLE-STRUCTURED-LOCATION;VALUE=URI;X-ADDRESS=The Factory Church 9872 Main Street Woodstock GA 30188 United States;X-APPLE-RADIUS=500;X-TITLE=9872 Main Street:geo:-84.5206214,34.0813133
END:VEVENT
BEGIN:VEVENT
DTSTART;TZID=America/New_York:20241012T083000
DTEND;TZID=America/New_York:20241012T123000
DTSTAMP:20260419T191326
CREATED:20240131T182951Z
LAST-MODIFIED:20251015T194846Z
UID:19082-1728721800-1728736200@www.thefactoryministries.org
SUMMARY:Downtown Feed the People
DESCRIPTION:We bring the hundreds of PB&J sandwiches that we made with us downtown to The Shrine of the Immaculate Conception where we help serve a hot meal and give out the sandwiches to several hundred hungry and homeless. You can either meet at The Factory at 7:30 am or meet us there at 8:30 am. The address is 48 M.L.K. Jr Dr SW\, Atlanta.
URL:https://www.thefactoryministries.org/event/downtown-feed-the-people/2024-10-12/
LOCATION:Shrine of the Immaculate Conception\, 48 M.L.K. Jr Dr SW\, Atlanta\, GA\, 30303\, United States
CATEGORIES:Compassion
END:VEVENT
BEGIN:VEVENT
DTSTART;VALUE=DATE:20241012
DTEND;VALUE=DATE:20241013
DTSTAMP:20260419T191326
CREATED:20241001T203732Z
LAST-MODIFIED:20241002T012657Z
UID:19163-1728691200-1728777599@www.thefactoryministries.org
SUMMARY:Youth Freedom in Christ
DESCRIPTION:
URL:https://www.thefactoryministries.org/event/youth-freedom-in-christ/
LOCATION:The Factory Church\, 9872 Main Street\, Woodstock\, GA\, 30188\, United States
CATEGORIES:YOUTH
GEO:34.0813133;-84.5206214
X-APPLE-STRUCTURED-LOCATION;VALUE=URI;X-ADDRESS=The Factory Church 9872 Main Street Woodstock GA 30188 United States;X-APPLE-RADIUS=500;X-TITLE=9872 Main Street:geo:-84.5206214,34.0813133
END:VEVENT
BEGIN:VEVENT
DTSTART;TZID=America/New_York:20241011T183000
DTEND;TZID=America/New_York:20241011T200000
DTSTAMP:20260419T191326
CREATED:20240131T182710Z
LAST-MODIFIED:20251015T193523Z
UID:19069-1728671400-1728676800@www.thefactoryministries.org
SUMMARY:Sandwich Night - Feed the People Outreach
DESCRIPTION:We meet at The Factory at 6:30pm sharp to make a few hundred peanut butter and jelly sandwiches to give to the homeless and hungry in Atlanta. This is a great event to bring the kids!
URL:https://www.thefactoryministries.org/event/sandwich-night-feed-the-people-outreach/2024-10-11/
LOCATION:The Factory Church\, 9872 Main Street\, Woodstock\, GA\, 30188\, United States
CATEGORIES:Compassion
GEO:34.0813133;-84.5206214
X-APPLE-STRUCTURED-LOCATION;VALUE=URI;X-ADDRESS=The Factory Church 9872 Main Street Woodstock GA 30188 United States;X-APPLE-RADIUS=500;X-TITLE=9872 Main Street:geo:-84.5206214,34.0813133
END:VEVENT
BEGIN:VEVENT
DTSTART;TZID=America/New_York:20241009T183000
DTEND;TZID=America/New_York:20241009T203000
DTSTAMP:20260419T191326
CREATED:20240302T143956Z
LAST-MODIFIED:20251015T201542Z
UID:18903-1728498600-1728505800@www.thefactoryministries.org
SUMMARY:YTH Wednesdays
DESCRIPTION:Join us Wednesdays from for games\, fellowship\, a relevant message\, and life-giving small groups! \nRegister your middle and high school students below. \n[maxbutton id=”84″ ] \n 
URL:https://www.thefactoryministries.org/event/yth-wednesdays/2024-10-09/
LOCATION:The Factory Church\, 9872 Main Street\, Woodstock\, GA\, 30188\, United States
CATEGORIES:YOUTH
GEO:34.0813133;-84.5206214
X-APPLE-STRUCTURED-LOCATION;VALUE=URI;X-ADDRESS=The Factory Church 9872 Main Street Woodstock GA 30188 United States;X-APPLE-RADIUS=500;X-TITLE=9872 Main Street:geo:-84.5206214,34.0813133
END:VEVENT
BEGIN:VEVENT
DTSTART;TZID=America/New_York:20241009T060000
DTEND;TZID=America/New_York:20241009T070000
DTSTAMP:20260419T191326
CREATED:20240302T144827Z
LAST-MODIFIED:20240904T181044Z
UID:18721-1728453600-1728457200@www.thefactoryministries.org
SUMMARY:Wednesday Morning Prayer
DESCRIPTION:Every Wednesday\, we will be meeting for prayer from 6am to 7am.\nStop by on your way to work and stay for as long as you can.
URL:https://www.thefactoryministries.org/event/wednesday-morning-prayer-09-11/2024-10-09/
LOCATION:The Factory Church\, 9872 Main Street\, Woodstock\, GA\, 30188\, United States
CATEGORIES:Compassion
GEO:34.0813133;-84.5206214
X-APPLE-STRUCTURED-LOCATION;VALUE=URI;X-ADDRESS=The Factory Church 9872 Main Street Woodstock GA 30188 United States;X-APPLE-RADIUS=500;X-TITLE=9872 Main Street:geo:-84.5206214,34.0813133
END:VEVENT
BEGIN:VEVENT
DTSTART;TZID=America/New_York:20241005T073000
DTEND;TZID=America/New_York:20241005T210000
DTSTAMP:20260419T191326
CREATED:20240131T184522Z
LAST-MODIFIED:20240131T184522Z
UID:19039-1728113400-1728162000@www.thefactoryministries.org
SUMMARY:Mpact Mens Ministry
DESCRIPTION:Join us for Breakfast\, Fellowship\, Worship and the Word.
URL:https://www.thefactoryministries.org/event/mpact-mens-ministry/2024-10-05/
LOCATION:The Factory Church\, 9872 Main Street\, Woodstock\, GA\, 30188\, United States
CATEGORIES:Mpact Mens Ministry
GEO:34.0813133;-84.5206214
X-APPLE-STRUCTURED-LOCATION;VALUE=URI;X-ADDRESS=The Factory Church 9872 Main Street Woodstock GA 30188 United States;X-APPLE-RADIUS=500;X-TITLE=9872 Main Street:geo:-84.5206214,34.0813133
END:VEVENT
BEGIN:VEVENT
DTSTART;TZID=America/New_York:20241002T183000
DTEND;TZID=America/New_York:20241002T203000
DTSTAMP:20260419T191326
CREATED:20240302T143956Z
LAST-MODIFIED:20251015T201540Z
UID:18902-1727893800-1727901000@www.thefactoryministries.org
SUMMARY:YTH Wednesdays
DESCRIPTION:Join us Wednesdays from for games\, fellowship\, a relevant message\, and life-giving small groups! \nRegister your middle and high school students below. \n[maxbutton id=”84″ ] \n 
URL:https://www.thefactoryministries.org/event/yth-wednesdays/2024-10-02/
LOCATION:The Factory Church\, 9872 Main Street\, Woodstock\, GA\, 30188\, United States
CATEGORIES:YOUTH
GEO:34.0813133;-84.5206214
X-APPLE-STRUCTURED-LOCATION;VALUE=URI;X-ADDRESS=The Factory Church 9872 Main Street Woodstock GA 30188 United States;X-APPLE-RADIUS=500;X-TITLE=9872 Main Street:geo:-84.5206214,34.0813133
END:VEVENT
BEGIN:VEVENT
DTSTART;TZID=America/New_York:20241002T060000
DTEND;TZID=America/New_York:20241002T070000
DTSTAMP:20260419T191326
CREATED:20240302T144827Z
LAST-MODIFIED:20240904T181043Z
UID:18720-1727848800-1727852400@www.thefactoryministries.org
SUMMARY:Wednesday Morning Prayer
DESCRIPTION:Every Wednesday\, we will be meeting for prayer from 6am to 7am.\nStop by on your way to work and stay for as long as you can.
URL:https://www.thefactoryministries.org/event/wednesday-morning-prayer-09-11/2024-10-02/
LOCATION:The Factory Church\, 9872 Main Street\, Woodstock\, GA\, 30188\, United States
CATEGORIES:Compassion
GEO:34.0813133;-84.5206214
X-APPLE-STRUCTURED-LOCATION;VALUE=URI;X-ADDRESS=The Factory Church 9872 Main Street Woodstock GA 30188 United States;X-APPLE-RADIUS=500;X-TITLE=9872 Main Street:geo:-84.5206214,34.0813133
END:VEVENT
BEGIN:VEVENT
DTSTART;TZID=America/New_York:20240925T183000
DTEND;TZID=America/New_York:20240925T203000
DTSTAMP:20260419T191326
CREATED:20240302T143956Z
LAST-MODIFIED:20251015T201539Z
UID:18901-1727289000-1727296200@www.thefactoryministries.org
SUMMARY:YTH Wednesdays
DESCRIPTION:Join us Wednesdays from for games\, fellowship\, a relevant message\, and life-giving small groups! \nRegister your middle and high school students below. \n[maxbutton id=”84″ ] \n 
URL:https://www.thefactoryministries.org/event/yth-wednesdays/2024-09-25/
LOCATION:The Factory Church\, 9872 Main Street\, Woodstock\, GA\, 30188\, United States
CATEGORIES:YOUTH
GEO:34.0813133;-84.5206214
X-APPLE-STRUCTURED-LOCATION;VALUE=URI;X-ADDRESS=The Factory Church 9872 Main Street Woodstock GA 30188 United States;X-APPLE-RADIUS=500;X-TITLE=9872 Main Street:geo:-84.5206214,34.0813133
END:VEVENT
BEGIN:VEVENT
DTSTART;TZID=America/New_York:20240925T060000
DTEND;TZID=America/New_York:20240925T070000
DTSTAMP:20260419T191326
CREATED:20240302T144827Z
LAST-MODIFIED:20240904T181042Z
UID:18719-1727244000-1727247600@www.thefactoryministries.org
SUMMARY:Wednesday Morning Prayer
DESCRIPTION:Every Wednesday\, we will be meeting for prayer from 6am to 7am.\nStop by on your way to work and stay for as long as you can.
URL:https://www.thefactoryministries.org/event/wednesday-morning-prayer-09-11/2024-09-25/
LOCATION:The Factory Church\, 9872 Main Street\, Woodstock\, GA\, 30188\, United States
CATEGORIES:Compassion
GEO:34.0813133;-84.5206214
X-APPLE-STRUCTURED-LOCATION;VALUE=URI;X-ADDRESS=The Factory Church 9872 Main Street Woodstock GA 30188 United States;X-APPLE-RADIUS=500;X-TITLE=9872 Main Street:geo:-84.5206214,34.0813133
END:VEVENT
BEGIN:VEVENT
DTSTART;TZID=America/New_York:20240922T123000
DTEND;TZID=America/New_York:20240922T140000
DTSTAMP:20260419T191326
CREATED:20240131T184230Z
LAST-MODIFIED:20240904T190642Z
UID:18191-1727008200-1727013600@www.thefactoryministries.org
SUMMARY:Compassion Team Meeting
DESCRIPTION:During this meeting we will discuss all of the ways you can serve during our scheduled events and also share other ways you can serve our community “The Other Six Days” on your own. The meeting is right after the 2nd service and lunch is provided.
URL:https://www.thefactoryministries.org/event/compassion-team-meeting-2/
LOCATION:The Factory Church\, 9872 Main Street\, Woodstock\, GA\, 30188\, United States
CATEGORIES:Compassion
GEO:34.0813133;-84.5206214
X-APPLE-STRUCTURED-LOCATION;VALUE=URI;X-ADDRESS=The Factory Church 9872 Main Street Woodstock GA 30188 United States;X-APPLE-RADIUS=500;X-TITLE=9872 Main Street:geo:-84.5206214,34.0813133
END:VEVENT
BEGIN:VEVENT
DTSTART;TZID=America/New_York:20240921T083000
DTEND;TZID=America/New_York:20240921T123000
DTSTAMP:20260419T191326
CREATED:20240131T183928Z
LAST-MODIFIED:20251015T203242Z
UID:18952-1726907400-1726921800@www.thefactoryministries.org
SUMMARY:Drive Through Grocery Distribution
DESCRIPTION:This event is at The Factory where we provide pantry goods\, meats\, produce and dairy items to anyone in need. Children are welcome to serve\, but they must be old enough to not to run around in the parking lot. It is held entirely outdoors so dress accordingly. \n  \nVolunteers meet at 8:30am.
URL:https://www.thefactoryministries.org/event/drive-through-grocery-distribution/2024-09-21/
LOCATION:The Factory Church\, 9872 Main Street\, Woodstock\, GA\, 30188\, United States
CATEGORIES:Compassion
GEO:34.0813133;-84.5206214
X-APPLE-STRUCTURED-LOCATION;VALUE=URI;X-ADDRESS=The Factory Church 9872 Main Street Woodstock GA 30188 United States;X-APPLE-RADIUS=500;X-TITLE=9872 Main Street:geo:-84.5206214,34.0813133
END:VEVENT
BEGIN:VEVENT
DTSTART;TZID=America/New_York:20240920T173000
DTEND;TZID=America/New_York:20240920T190000
DTSTAMP:20260419T191326
CREATED:20240131T183814Z
LAST-MODIFIED:20240904T190829Z
UID:18180-1726853400-1726858800@www.thefactoryministries.org
SUMMARY:Second Chance Ministries - Feed the People @ Shady Grove
DESCRIPTION:Partnering with Second Chance Ministries\, we will be serving dinner to the hungry and homeless in the Kennesaw and Marietta area. This event is fully outdoors so dress for the weather. We will meet at Shady Grove Baptist Church\, 1654 Bells Ferry Road\, Marietta at 5:30 pm.
URL:https://www.thefactoryministries.org/event/second-chance-ministries-feed-the-people-shady-grove/2024-09-20/
LOCATION:Shady Grove Baptist Church\, 1654 Bells Ferry Road\, Marietta\, GA\, 30066\, United States
CATEGORIES:Compassion
END:VEVENT
BEGIN:VEVENT
DTSTART;TZID=America/New_York:20240919T183000
DTEND;TZID=America/New_York:20240919T194500
DTSTAMP:20260419T191326
CREATED:20240904T190430Z
LAST-MODIFIED:20241001T201025Z
UID:18976-1726770600-1726775100@www.thefactoryministries.org
SUMMARY:Factory Kids Volunteer Meeting
DESCRIPTION:Join us for a Monthly meeting of our Children’s ministry  team leaders.
URL:https://www.thefactoryministries.org/event/factory-kids-volunteer-meeting/2024-09-19/
LOCATION:The Factory Church\, 9872 Main Street\, Woodstock\, GA\, 30188\, United States
GEO:34.0813133;-84.5206214
X-APPLE-STRUCTURED-LOCATION;VALUE=URI;X-ADDRESS=The Factory Church 9872 Main Street Woodstock GA 30188 United States;X-APPLE-RADIUS=500;X-TITLE=9872 Main Street:geo:-84.5206214,34.0813133
END:VEVENT
BEGIN:VEVENT
DTSTART;TZID=America/New_York:20240918T183000
DTEND;TZID=America/New_York:20240918T203000
DTSTAMP:20260419T191326
CREATED:20240302T143956Z
LAST-MODIFIED:20251015T201537Z
UID:18900-1726684200-1726691400@www.thefactoryministries.org
SUMMARY:YTH Wednesdays
DESCRIPTION:Join us Wednesdays from for games\, fellowship\, a relevant message\, and life-giving small groups! \nRegister your middle and high school students below. \n[maxbutton id=”84″ ] \n 
URL:https://www.thefactoryministries.org/event/yth-wednesdays/2024-09-18/
LOCATION:The Factory Church\, 9872 Main Street\, Woodstock\, GA\, 30188\, United States
CATEGORIES:YOUTH
GEO:34.0813133;-84.5206214
X-APPLE-STRUCTURED-LOCATION;VALUE=URI;X-ADDRESS=The Factory Church 9872 Main Street Woodstock GA 30188 United States;X-APPLE-RADIUS=500;X-TITLE=9872 Main Street:geo:-84.5206214,34.0813133
END:VEVENT
BEGIN:VEVENT
DTSTART;TZID=America/New_York:20240918T060000
DTEND;TZID=America/New_York:20240918T070000
DTSTAMP:20260419T191326
CREATED:20240302T144827Z
LAST-MODIFIED:20240904T181042Z
UID:18718-1726639200-1726642800@www.thefactoryministries.org
SUMMARY:Wednesday Morning Prayer
DESCRIPTION:Every Wednesday\, we will be meeting for prayer from 6am to 7am.\nStop by on your way to work and stay for as long as you can.
URL:https://www.thefactoryministries.org/event/wednesday-morning-prayer-09-11/2024-09-18/
LOCATION:The Factory Church\, 9872 Main Street\, Woodstock\, GA\, 30188\, United States
CATEGORIES:Compassion
GEO:34.0813133;-84.5206214
X-APPLE-STRUCTURED-LOCATION;VALUE=URI;X-ADDRESS=The Factory Church 9872 Main Street Woodstock GA 30188 United States;X-APPLE-RADIUS=500;X-TITLE=9872 Main Street:geo:-84.5206214,34.0813133
END:VEVENT
BEGIN:VEVENT
DTSTART;TZID=America/New_York:20240914T083000
DTEND;TZID=America/New_York:20240914T123000
DTSTAMP:20260419T191326
CREATED:20240131T182951Z
LAST-MODIFIED:20251015T194748Z
UID:18169-1726302600-1726317000@www.thefactoryministries.org
SUMMARY:Downtown Feed the People
DESCRIPTION:We bring the hundreds of PB&J sandwiches that we made with us downtown to The Shrine of the Immaculate Conception where we help serve a hot meal and give out the sandwiches to several hundred hungry and homeless. You can either meet at The Factory at 7:30 am or meet us there at 8:30 am. The address is 48 M.L.K. Jr Dr SW\, Atlanta.
URL:https://www.thefactoryministries.org/event/downtown-feed-the-people/2024-09-14/
LOCATION:Shrine of the Immaculate Conception\, 48 M.L.K. Jr Dr SW\, Atlanta\, GA\, 30303\, United States
CATEGORIES:Compassion
END:VEVENT
BEGIN:VEVENT
DTSTART;TZID=America/New_York:20240913T183000
DTEND;TZID=America/New_York:20240913T200000
DTSTAMP:20260419T191326
CREATED:20240131T182710Z
LAST-MODIFIED:20251015T193411Z
UID:18166-1726252200-1726257600@www.thefactoryministries.org
SUMMARY:Sandwich Night - Feed the People Outreach
DESCRIPTION:We meet at The Factory at 6:30pm sharp to make a few hundred peanut butter and jelly sandwiches to give to the homeless and hungry in Atlanta. This is a great event to bring the kids!
URL:https://www.thefactoryministries.org/event/sandwich-night-feed-the-people-outreach/2024-09-13/
LOCATION:The Factory Church\, 9872 Main Street\, Woodstock\, GA\, 30188\, United States
CATEGORIES:Compassion
GEO:34.0813133;-84.5206214
X-APPLE-STRUCTURED-LOCATION;VALUE=URI;X-ADDRESS=The Factory Church 9872 Main Street Woodstock GA 30188 United States;X-APPLE-RADIUS=500;X-TITLE=9872 Main Street:geo:-84.5206214,34.0813133
END:VEVENT
BEGIN:VEVENT
DTSTART;VALUE=DATE:20240913
DTEND;VALUE=DATE:20240916
DTSTAMP:20260419T191326
CREATED:20240904T181552Z
LAST-MODIFIED:20240904T181552Z
UID:18893-1726185600-1726444799@www.thefactoryministries.org
SUMMARY:Youth Fall Retreat
DESCRIPTION:Location: Camp Westminster (Conyers\, GA)2412 Lake Rockaway Rd NW Conyers GA\, 30012\nDates: September 13th-15th\nPhone (770) 483-2225\nRetreat Email retreats@campwestminster.org\n\n\n\n\n\n\n\n\nPlease join us in praying and preparing for our students to encounter the Holy Spirit in a way that changes them forever…we know He will! \nFor additional info or any questions email us here or text us at 770-563-8319!
URL:https://www.thefactoryministries.org/event/youth-fall-retreat/
LOCATION:GA
CATEGORIES:YOUTH
END:VEVENT
BEGIN:VEVENT
DTSTART;TZID=America/New_York:20240911T183000
DTEND;TZID=America/New_York:20240911T203000
DTSTAMP:20260419T191326
CREATED:20240302T143956Z
LAST-MODIFIED:20251015T201529Z
UID:18899-1726079400-1726086600@www.thefactoryministries.org
SUMMARY:YTH Wednesdays
DESCRIPTION:Join us Wednesdays from for games\, fellowship\, a relevant message\, and life-giving small groups! \nRegister your middle and high school students below. \n[maxbutton id=”84″ ] \n 
URL:https://www.thefactoryministries.org/event/yth-wednesdays/2024-09-11/
LOCATION:The Factory Church\, 9872 Main Street\, Woodstock\, GA\, 30188\, United States
CATEGORIES:YOUTH
GEO:34.0813133;-84.5206214
X-APPLE-STRUCTURED-LOCATION;VALUE=URI;X-ADDRESS=The Factory Church 9872 Main Street Woodstock GA 30188 United States;X-APPLE-RADIUS=500;X-TITLE=9872 Main Street:geo:-84.5206214,34.0813133
END:VEVENT
BEGIN:VEVENT
DTSTART;TZID=America/New_York:20240911T060000
DTEND;TZID=America/New_York:20240911T070000
DTSTAMP:20260419T191326
CREATED:20240302T144827Z
LAST-MODIFIED:20251015T200851Z
UID:18304-1726034400-1726038000@www.thefactoryministries.org
SUMMARY:Wednesday Morning Prayer
DESCRIPTION:Every Wednesday\, we will be meeting for prayer from 6am to 7am.\nStop by on your way to work and stay for as long as you can.
URL:https://www.thefactoryministries.org/event/wednesday-morning-prayer-09-11/2024-09-11/
LOCATION:The Factory Church\, 9872 Main Street\, Woodstock\, GA\, 30188\, United States
CATEGORIES:Compassion
GEO:34.0813133;-84.5206214
X-APPLE-STRUCTURED-LOCATION;VALUE=URI;X-ADDRESS=The Factory Church 9872 Main Street Woodstock GA 30188 United States;X-APPLE-RADIUS=500;X-TITLE=9872 Main Street:geo:-84.5206214,34.0813133
END:VEVENT
BEGIN:VEVENT
DTSTART;TZID=America/New_York:20240907T073000
DTEND;TZID=America/New_York:20240907T210000
DTSTAMP:20260419T191326
CREATED:20240131T184522Z
LAST-MODIFIED:20241001T170528Z
UID:18194-1725694200-1725742800@www.thefactoryministries.org
SUMMARY:Mpact Mens Ministry
DESCRIPTION:Join us for Breakfast\, Fellowship\, Worship and the Word.
URL:https://www.thefactoryministries.org/event/mpact-mens-ministry/2024-09-07/
LOCATION:The Factory Church\, 9872 Main Street\, Woodstock\, GA\, 30188\, United States
CATEGORIES:Mpact Mens Ministry
GEO:34.0813133;-84.5206214
X-APPLE-STRUCTURED-LOCATION;VALUE=URI;X-ADDRESS=The Factory Church 9872 Main Street Woodstock GA 30188 United States;X-APPLE-RADIUS=500;X-TITLE=9872 Main Street:geo:-84.5206214,34.0813133
END:VEVENT
BEGIN:VEVENT
DTSTART;TZID=America/New_York:20240905T190000
DTEND;TZID=America/New_York:20240905T190000
DTSTAMP:20260419T191326
CREATED:20240904T172529Z
LAST-MODIFIED:20240904T172529Z
UID:18715-1725562800-1725562800@www.thefactoryministries.org
SUMMARY:Africa Clothing Donations
DESCRIPTION:We are collecting donations at the church on Thursday in September from 7:00 PM to 8:00 PM for our upcoming mission trip to Africa. We are specifically asking for the following items: new underwear (all sizes)\, new socks (all sizes)\, gently used or new clothing for babies\, children\, women\, and men (all sizes): pants\, t-shirts\, long dresses\, long sleeve shirts\, lightweight shoes only: flip-flops\, crocs\, and sandals (no heavy shoes) Due to limited suitcase space\, please only bring the items listed. Your support is greatly appreciated!
URL:https://www.thefactoryministries.org/event/africa-clothing-donations/
LOCATION:The Factory Church\, 9872 Main Street\, Woodstock\, GA\, 30188\, United States
CATEGORIES:Compassion
GEO:34.0813133;-84.5206214
X-APPLE-STRUCTURED-LOCATION;VALUE=URI;X-ADDRESS=The Factory Church 9872 Main Street Woodstock GA 30188 United States;X-APPLE-RADIUS=500;X-TITLE=9872 Main Street:geo:-84.5206214,34.0813133
END:VEVENT
BEGIN:VEVENT
DTSTART;TZID=America/New_York:20240904T183000
DTEND;TZID=America/New_York:20240904T203000
DTSTAMP:20260419T191326
CREATED:20240302T143956Z
LAST-MODIFIED:20251015T201527Z
UID:18898-1725474600-1725481800@www.thefactoryministries.org
SUMMARY:YTH Wednesdays
DESCRIPTION:Join us Wednesdays from for games\, fellowship\, a relevant message\, and life-giving small groups! \nRegister your middle and high school students below. \n[maxbutton id=”84″ ] \n 
URL:https://www.thefactoryministries.org/event/yth-wednesdays/2024-09-04/
LOCATION:The Factory Church\, 9872 Main Street\, Woodstock\, GA\, 30188\, United States
CATEGORIES:YOUTH
GEO:34.0813133;-84.5206214
X-APPLE-STRUCTURED-LOCATION;VALUE=URI;X-ADDRESS=The Factory Church 9872 Main Street Woodstock GA 30188 United States;X-APPLE-RADIUS=500;X-TITLE=9872 Main Street:geo:-84.5206214,34.0813133
END:VEVENT
BEGIN:VEVENT
DTSTART;TZID=America/New_York:20240904T183000
DTEND;TZID=America/New_York:20240904T203000
DTSTAMP:20260419T191326
CREATED:20240302T143912Z
LAST-MODIFIED:20240904T172428Z
UID:18289-1725474600-1725481800@www.thefactoryministries.org
SUMMARY:YTH Wednesdays
DESCRIPTION:Join us Wednesdays from for games\, fellowship\, a relevant message\, and life-giving small groups! \nRegister your middle and high school students below. \n[maxbutton id=”84″ ] \n 
URL:https://www.thefactoryministries.org/event/yth-wednesdays-09-04/
LOCATION:The Factory Church\, 9872 Main Street\, Woodstock\, GA\, 30188\, United States
CATEGORIES:YOUTH
GEO:34.0813133;-84.5206214
X-APPLE-STRUCTURED-LOCATION;VALUE=URI;X-ADDRESS=The Factory Church 9872 Main Street Woodstock GA 30188 United States;X-APPLE-RADIUS=500;X-TITLE=9872 Main Street:geo:-84.5206214,34.0813133
END:VEVENT
BEGIN:VEVENT
DTSTART;TZID=America/New_York:20240904T170000
DTEND;TZID=America/New_York:20240904T190000
DTSTAMP:20260419T191326
CREATED:20240131T183520Z
LAST-MODIFIED:20240904T191205Z
UID:18176-1725469200-1725476400@www.thefactoryministries.org
SUMMARY:Safehouse Outreach
DESCRIPTION:If you’d like to join us as we provide a meal to the hungry and homeless in Atlanta\, meet us at The Factory at 4:00 pm or directly at Safehouse at 89 Ellis Street NE\, Atlanta by 5:00pm. \n  \nWe need volunteers to serve food and mingle with the guests.
URL:https://www.thefactoryministries.org/event/safehouse-outreach-3/2024-09-04/
LOCATION:Safe House\, 89 Ellis Street\, Atlanta\, GA\, 30303\, United States
CATEGORIES:Compassion
END:VEVENT
END:VCALENDAR