BEGIN:VCALENDAR
VERSION:2.0
PRODID:-//The Factory - ECPv6.15.20//NONSGML v1.0//EN
CALSCALE:GREGORIAN
METHOD:PUBLISH
X-WR-CALNAME:The Factory
X-ORIGINAL-URL:https://www.thefactoryministries.org
X-WR-CALDESC:Events for The Factory
REFRESH-INTERVAL;VALUE=DURATION:PT1H
X-Robots-Tag:noindex
X-PUBLISHED-TTL:PT1H
BEGIN:VTIMEZONE
TZID:America/New_York
BEGIN:DAYLIGHT
TZOFFSETFROM:-0500
TZOFFSETTO:-0400
TZNAME:EDT
DTSTART:20230312T070000
END:DAYLIGHT
BEGIN:STANDARD
TZOFFSETFROM:-0400
TZOFFSETTO:-0500
TZNAME:EST
DTSTART:20231105T060000
END:STANDARD
BEGIN:DAYLIGHT
TZOFFSETFROM:-0500
TZOFFSETTO:-0400
TZNAME:EDT
DTSTART:20240310T070000
END:DAYLIGHT
BEGIN:STANDARD
TZOFFSETFROM:-0400
TZOFFSETTO:-0500
TZNAME:EST
DTSTART:20241103T060000
END:STANDARD
BEGIN:DAYLIGHT
TZOFFSETFROM:-0500
TZOFFSETTO:-0400
TZNAME:EDT
DTSTART:20250309T070000
END:DAYLIGHT
BEGIN:STANDARD
TZOFFSETFROM:-0400
TZOFFSETTO:-0500
TZNAME:EST
DTSTART:20251102T060000
END:STANDARD
BEGIN:DAYLIGHT
TZOFFSETFROM:-0500
TZOFFSETTO:-0400
TZNAME:EDT
DTSTART:20260308T070000
END:DAYLIGHT
BEGIN:STANDARD
TZOFFSETFROM:-0400
TZOFFSETTO:-0500
TZNAME:EST
DTSTART:20261101T060000
END:STANDARD
END:VTIMEZONE
BEGIN:VEVENT
DTSTART;TZID=America/New_York:20250110T183000
DTEND;TZID=America/New_York:20250110T200000
DTSTAMP:20260419T112527
CREATED:20240131T182710Z
LAST-MODIFIED:20250107T194247Z
UID:19072-1736533800-1736539200@www.thefactoryministries.org
SUMMARY:CANCELED - Sandwich Night - CANCELED
DESCRIPTION:Out of abundance of caution with the impending weather we have canceled the sandwich night outreach due to the predicted snow and ice. We are monitoring the situation for Saturday’s outreach also as it may be impacted by the weather as well.
URL:https://www.thefactoryministries.org/event/sandwich-night-feed-the-people-outreach-2025-01-10/
LOCATION:The Factory Church\, 9872 Main Street\, Woodstock\, GA\, 30188\, United States
CATEGORIES:Compassion
GEO:34.0813133;-84.5206214
X-APPLE-STRUCTURED-LOCATION;VALUE=URI;X-ADDRESS=The Factory Church 9872 Main Street Woodstock GA 30188 United States;X-APPLE-RADIUS=500;X-TITLE=9872 Main Street:geo:-84.5206214,34.0813133
END:VEVENT
BEGIN:VEVENT
DTSTART;TZID=America/New_York:20250108T183000
DTEND;TZID=America/New_York:20250108T203000
DTSTAMP:20260419T112527
CREATED:20240302T143956Z
LAST-MODIFIED:20251015T201625Z
UID:18916-1736361000-1736368200@www.thefactoryministries.org
SUMMARY:YTH Wednesdays
DESCRIPTION:Join us Wednesdays from for games\, fellowship\, a relevant message\, and life-giving small groups! \nRegister your middle and high school students below. \n[maxbutton id=”84″ ] \n 
URL:https://www.thefactoryministries.org/event/yth-wednesdays/2025-01-08/
LOCATION:The Factory Church\, 9872 Main Street\, Woodstock\, GA\, 30188\, United States
CATEGORIES:YOUTH
GEO:34.0813133;-84.5206214
X-APPLE-STRUCTURED-LOCATION;VALUE=URI;X-ADDRESS=The Factory Church 9872 Main Street Woodstock GA 30188 United States;X-APPLE-RADIUS=500;X-TITLE=9872 Main Street:geo:-84.5206214,34.0813133
END:VEVENT
BEGIN:VEVENT
DTSTART;TZID=America/New_York:20250108T060000
DTEND;TZID=America/New_York:20250108T070000
DTSTAMP:20260419T112527
CREATED:20240302T144827Z
LAST-MODIFIED:20240904T181055Z
UID:18734-1736316000-1736319600@www.thefactoryministries.org
SUMMARY:Wednesday Morning Prayer
DESCRIPTION:Every Wednesday\, we will be meeting for prayer from 6am to 7am.\nStop by on your way to work and stay for as long as you can.
URL:https://www.thefactoryministries.org/event/wednesday-morning-prayer-09-11/2025-01-08/
LOCATION:The Factory Church\, 9872 Main Street\, Woodstock\, GA\, 30188\, United States
CATEGORIES:Compassion
GEO:34.0813133;-84.5206214
X-APPLE-STRUCTURED-LOCATION;VALUE=URI;X-ADDRESS=The Factory Church 9872 Main Street Woodstock GA 30188 United States;X-APPLE-RADIUS=500;X-TITLE=9872 Main Street:geo:-84.5206214,34.0813133
END:VEVENT
BEGIN:VEVENT
DTSTART;TZID=America/New_York:20250104T073000
DTEND;TZID=America/New_York:20250104T210000
DTSTAMP:20260419T112527
CREATED:20240131T184522Z
LAST-MODIFIED:20240131T184522Z
UID:19042-1735975800-1736024400@www.thefactoryministries.org
SUMMARY:Mpact Mens Ministry
DESCRIPTION:Join us for Breakfast\, Fellowship\, Worship and the Word.
URL:https://www.thefactoryministries.org/event/mpact-mens-ministry/2025-01-04/
LOCATION:The Factory Church\, 9872 Main Street\, Woodstock\, GA\, 30188\, United States
CATEGORIES:Mpact Mens Ministry
GEO:34.0813133;-84.5206214
X-APPLE-STRUCTURED-LOCATION;VALUE=URI;X-ADDRESS=The Factory Church 9872 Main Street Woodstock GA 30188 United States;X-APPLE-RADIUS=500;X-TITLE=9872 Main Street:geo:-84.5206214,34.0813133
END:VEVENT
BEGIN:VEVENT
DTSTART;TZID=America/New_York:20250101T183000
DTEND;TZID=America/New_York:20250101T203000
DTSTAMP:20260419T112527
CREATED:20240302T143956Z
LAST-MODIFIED:20251015T201621Z
UID:18915-1735756200-1735763400@www.thefactoryministries.org
SUMMARY:YTH Wednesdays
DESCRIPTION:Join us Wednesdays from for games\, fellowship\, a relevant message\, and life-giving small groups! \nRegister your middle and high school students below. \n[maxbutton id=”84″ ] \n 
URL:https://www.thefactoryministries.org/event/yth-wednesdays/2025-01-01/
LOCATION:The Factory Church\, 9872 Main Street\, Woodstock\, GA\, 30188\, United States
CATEGORIES:YOUTH
GEO:34.0813133;-84.5206214
X-APPLE-STRUCTURED-LOCATION;VALUE=URI;X-ADDRESS=The Factory Church 9872 Main Street Woodstock GA 30188 United States;X-APPLE-RADIUS=500;X-TITLE=9872 Main Street:geo:-84.5206214,34.0813133
END:VEVENT
BEGIN:VEVENT
DTSTART;TZID=America/New_York:20250101T160000
DTEND;TZID=America/New_York:20250101T200000
DTSTAMP:20260419T112527
CREATED:20241029T165351Z
LAST-MODIFIED:20241029T165351Z
UID:19258-1735747200-1735761600@www.thefactoryministries.org
SUMMARY:SafeHouse Outreach
DESCRIPTION:If you’d like to join us as we provide a meal to the hungry and homeless in Atlanta\, meet us at The Factory at 4:00 pm or directly at Safehouse at 89 Ellis Street NE\, Atlanta by 5:00pm. We need volunteers to serve food and mingle with the guests.
URL:https://www.thefactoryministries.org/event/safehouse-outreach-4/2025-01-01/
LOCATION:GA
CATEGORIES:Compassion
END:VEVENT
BEGIN:VEVENT
DTSTART;TZID=America/New_York:20250101T060000
DTEND;TZID=America/New_York:20250101T070000
DTSTAMP:20260419T112527
CREATED:20240302T144827Z
LAST-MODIFIED:20240904T181054Z
UID:18733-1735711200-1735714800@www.thefactoryministries.org
SUMMARY:Wednesday Morning Prayer
DESCRIPTION:Every Wednesday\, we will be meeting for prayer from 6am to 7am.\nStop by on your way to work and stay for as long as you can.
URL:https://www.thefactoryministries.org/event/wednesday-morning-prayer-09-11/2025-01-01/
LOCATION:The Factory Church\, 9872 Main Street\, Woodstock\, GA\, 30188\, United States
CATEGORIES:Compassion
GEO:34.0813133;-84.5206214
X-APPLE-STRUCTURED-LOCATION;VALUE=URI;X-ADDRESS=The Factory Church 9872 Main Street Woodstock GA 30188 United States;X-APPLE-RADIUS=500;X-TITLE=9872 Main Street:geo:-84.5206214,34.0813133
END:VEVENT
BEGIN:VEVENT
DTSTART;TZID=America/New_York:20241228T160000
DTEND;TZID=America/New_York:20241228T170000
DTSTAMP:20260419T112527
CREATED:20241001T174153Z
LAST-MODIFIED:20241001T174153Z
UID:19056-1735401600-1735405200@www.thefactoryministries.org
SUMMARY:Goshen Valley Boys Ranch
DESCRIPTION:What are we doing to serve: We are providing a nice sit down meal for the parents and staff at Goshen Valley Boys Ranch. We will also provide a hangout time in the gym for the boys\, we need kids for this! We will play basketball\, games and have some pizza for them. \n  \nWhen: The 4th Saturday of every month. We will meet at the church at 3:45 and leave by 4pm\, we are renting a 15 passenger van so if you need to ride with the group you can. If you’d like to drive yourself the address is 387 Goshen Church Way\, Waleska\, GA 30183
URL:https://www.thefactoryministries.org/event/goshen-valley-boys-ranch/2024-12-28/
LOCATION:Goshen Valley\, 387 Goshen Church Way\,\, Waleska\, GA\, 30183\, United States
END:VEVENT
BEGIN:VEVENT
DTSTART;TZID=America/New_York:20241225T183000
DTEND;TZID=America/New_York:20241225T203000
DTSTAMP:20260419T112527
CREATED:20240302T143956Z
LAST-MODIFIED:20251015T201618Z
UID:18914-1735151400-1735158600@www.thefactoryministries.org
SUMMARY:YTH Wednesdays
DESCRIPTION:Join us Wednesdays from for games\, fellowship\, a relevant message\, and life-giving small groups! \nRegister your middle and high school students below. \n[maxbutton id=”84″ ] \n 
URL:https://www.thefactoryministries.org/event/yth-wednesdays/2024-12-25/
LOCATION:The Factory Church\, 9872 Main Street\, Woodstock\, GA\, 30188\, United States
CATEGORIES:YOUTH
GEO:34.0813133;-84.5206214
X-APPLE-STRUCTURED-LOCATION;VALUE=URI;X-ADDRESS=The Factory Church 9872 Main Street Woodstock GA 30188 United States;X-APPLE-RADIUS=500;X-TITLE=9872 Main Street:geo:-84.5206214,34.0813133
END:VEVENT
BEGIN:VEVENT
DTSTART;TZID=America/New_York:20241225T060000
DTEND;TZID=America/New_York:20241225T070000
DTSTAMP:20260419T112527
CREATED:20240302T144827Z
LAST-MODIFIED:20240904T181053Z
UID:18732-1735106400-1735110000@www.thefactoryministries.org
SUMMARY:Wednesday Morning Prayer
DESCRIPTION:Every Wednesday\, we will be meeting for prayer from 6am to 7am.\nStop by on your way to work and stay for as long as you can.
URL:https://www.thefactoryministries.org/event/wednesday-morning-prayer-09-11/2024-12-25/
LOCATION:The Factory Church\, 9872 Main Street\, Woodstock\, GA\, 30188\, United States
CATEGORIES:Compassion
GEO:34.0813133;-84.5206214
X-APPLE-STRUCTURED-LOCATION;VALUE=URI;X-ADDRESS=The Factory Church 9872 Main Street Woodstock GA 30188 United States;X-APPLE-RADIUS=500;X-TITLE=9872 Main Street:geo:-84.5206214,34.0813133
END:VEVENT
BEGIN:VEVENT
DTSTART;TZID=America/New_York:20241221T083000
DTEND;TZID=America/New_York:20241221T123000
DTSTAMP:20260419T112527
CREATED:20240131T183928Z
LAST-MODIFIED:20251015T203246Z
UID:18955-1734769800-1734784200@www.thefactoryministries.org
SUMMARY:Drive Through Grocery Distribution
DESCRIPTION:This event is at The Factory where we provide pantry goods\, meats\, produce and dairy items to anyone in need. Children are welcome to serve\, but they must be old enough to not to run around in the parking lot. It is held entirely outdoors so dress accordingly. \n  \nVolunteers meet at 8:30am.
URL:https://www.thefactoryministries.org/event/drive-through-grocery-distribution/2024-12-21/
LOCATION:The Factory Church\, 9872 Main Street\, Woodstock\, GA\, 30188\, United States
CATEGORIES:Compassion
GEO:34.0813133;-84.5206214
X-APPLE-STRUCTURED-LOCATION;VALUE=URI;X-ADDRESS=The Factory Church 9872 Main Street Woodstock GA 30188 United States;X-APPLE-RADIUS=500;X-TITLE=9872 Main Street:geo:-84.5206214,34.0813133
END:VEVENT
BEGIN:VEVENT
DTSTART;TZID=America/New_York:20241220T173000
DTEND;TZID=America/New_York:20241220T190000
DTSTAMP:20260419T112527
CREATED:20240131T183814Z
LAST-MODIFIED:20240131T183814Z
UID:18981-1734715800-1734721200@www.thefactoryministries.org
SUMMARY:Second Chance Ministries - Feed the People @ Shady Grove
DESCRIPTION:Partnering with Second Chance Ministries\, we will be serving dinner to the hungry and homeless in the Kennesaw and Marietta area. This event is fully outdoors so dress for the weather. We will meet at Shady Grove Baptist Church\, 1654 Bells Ferry Road\, Marietta at 5:30 pm.
URL:https://www.thefactoryministries.org/event/second-chance-ministries-feed-the-people-shady-grove/2024-12-20/
LOCATION:Shady Grove Baptist Church\, 1654 Bells Ferry Road\, Marietta\, GA\, 30066\, United States
CATEGORIES:Compassion
END:VEVENT
BEGIN:VEVENT
DTSTART;TZID=America/New_York:20241219T183000
DTEND;TZID=America/New_York:20241219T194500
DTSTAMP:20260419T112527
CREATED:20240904T190430Z
LAST-MODIFIED:20240904T190430Z
UID:19097-1734633000-1734637500@www.thefactoryministries.org
SUMMARY:Factory Kids Volunteer Meeting
DESCRIPTION:Join us for a Monthly meeting of our Children’s ministry  team leaders.
URL:https://www.thefactoryministries.org/event/factory-kids-volunteer-meeting/2024-12-19/
LOCATION:The Factory Church\, 9872 Main Street\, Woodstock\, GA\, 30188\, United States
GEO:34.0813133;-84.5206214
X-APPLE-STRUCTURED-LOCATION;VALUE=URI;X-ADDRESS=The Factory Church 9872 Main Street Woodstock GA 30188 United States;X-APPLE-RADIUS=500;X-TITLE=9872 Main Street:geo:-84.5206214,34.0813133
END:VEVENT
BEGIN:VEVENT
DTSTART;TZID=America/New_York:20241218T183000
DTEND;TZID=America/New_York:20241218T203000
DTSTAMP:20260419T112527
CREATED:20240302T143956Z
LAST-MODIFIED:20251015T201616Z
UID:18913-1734546600-1734553800@www.thefactoryministries.org
SUMMARY:YTH Wednesdays
DESCRIPTION:Join us Wednesdays from for games\, fellowship\, a relevant message\, and life-giving small groups! \nRegister your middle and high school students below. \n[maxbutton id=”84″ ] \n 
URL:https://www.thefactoryministries.org/event/yth-wednesdays/2024-12-18/
LOCATION:The Factory Church\, 9872 Main Street\, Woodstock\, GA\, 30188\, United States
CATEGORIES:YOUTH
GEO:34.0813133;-84.5206214
X-APPLE-STRUCTURED-LOCATION;VALUE=URI;X-ADDRESS=The Factory Church 9872 Main Street Woodstock GA 30188 United States;X-APPLE-RADIUS=500;X-TITLE=9872 Main Street:geo:-84.5206214,34.0813133
END:VEVENT
BEGIN:VEVENT
DTSTART;TZID=America/New_York:20241218T060000
DTEND;TZID=America/New_York:20241218T070000
DTSTAMP:20260419T112527
CREATED:20240302T144827Z
LAST-MODIFIED:20240904T181053Z
UID:18731-1734501600-1734505200@www.thefactoryministries.org
SUMMARY:Wednesday Morning Prayer
DESCRIPTION:Every Wednesday\, we will be meeting for prayer from 6am to 7am.\nStop by on your way to work and stay for as long as you can.
URL:https://www.thefactoryministries.org/event/wednesday-morning-prayer-09-11/2024-12-18/
LOCATION:The Factory Church\, 9872 Main Street\, Woodstock\, GA\, 30188\, United States
CATEGORIES:Compassion
GEO:34.0813133;-84.5206214
X-APPLE-STRUCTURED-LOCATION;VALUE=URI;X-ADDRESS=The Factory Church 9872 Main Street Woodstock GA 30188 United States;X-APPLE-RADIUS=500;X-TITLE=9872 Main Street:geo:-84.5206214,34.0813133
END:VEVENT
BEGIN:VEVENT
DTSTART;TZID=America/New_York:20241214T083000
DTEND;TZID=America/New_York:20241214T123000
DTSTAMP:20260419T112527
CREATED:20240131T182951Z
LAST-MODIFIED:20251015T194852Z
UID:19084-1734165000-1734179400@www.thefactoryministries.org
SUMMARY:Downtown Feed the People
DESCRIPTION:We bring the hundreds of PB&J sandwiches that we made with us downtown to The Shrine of the Immaculate Conception where we help serve a hot meal and give out the sandwiches to several hundred hungry and homeless. You can either meet at The Factory at 7:30 am or meet us there at 8:30 am. The address is 48 M.L.K. Jr Dr SW\, Atlanta.
URL:https://www.thefactoryministries.org/event/downtown-feed-the-people/2024-12-14/
LOCATION:Shrine of the Immaculate Conception\, 48 M.L.K. Jr Dr SW\, Atlanta\, GA\, 30303\, United States
CATEGORIES:Compassion
END:VEVENT
BEGIN:VEVENT
DTSTART;TZID=America/New_York:20241213T183000
DTEND;TZID=America/New_York:20241213T200000
DTSTAMP:20260419T112527
CREATED:20240131T182710Z
LAST-MODIFIED:20251015T193530Z
UID:19071-1734114600-1734120000@www.thefactoryministries.org
SUMMARY:Sandwich Night - Feed the People Outreach
DESCRIPTION:We meet at The Factory at 6:30pm sharp to make a few hundred peanut butter and jelly sandwiches to give to the homeless and hungry in Atlanta. This is a great event to bring the kids!
URL:https://www.thefactoryministries.org/event/sandwich-night-feed-the-people-outreach/2024-12-13/
LOCATION:The Factory Church\, 9872 Main Street\, Woodstock\, GA\, 30188\, United States
CATEGORIES:Compassion
GEO:34.0813133;-84.5206214
X-APPLE-STRUCTURED-LOCATION;VALUE=URI;X-ADDRESS=The Factory Church 9872 Main Street Woodstock GA 30188 United States;X-APPLE-RADIUS=500;X-TITLE=9872 Main Street:geo:-84.5206214,34.0813133
END:VEVENT
BEGIN:VEVENT
DTSTART;TZID=America/New_York:20241211T183000
DTEND;TZID=America/New_York:20241211T203000
DTSTAMP:20260419T112527
CREATED:20240302T143956Z
LAST-MODIFIED:20251015T201613Z
UID:18912-1733941800-1733949000@www.thefactoryministries.org
SUMMARY:YTH Wednesdays
DESCRIPTION:Join us Wednesdays from for games\, fellowship\, a relevant message\, and life-giving small groups! \nRegister your middle and high school students below. \n[maxbutton id=”84″ ] \n 
URL:https://www.thefactoryministries.org/event/yth-wednesdays/2024-12-11/
LOCATION:The Factory Church\, 9872 Main Street\, Woodstock\, GA\, 30188\, United States
CATEGORIES:YOUTH
GEO:34.0813133;-84.5206214
X-APPLE-STRUCTURED-LOCATION;VALUE=URI;X-ADDRESS=The Factory Church 9872 Main Street Woodstock GA 30188 United States;X-APPLE-RADIUS=500;X-TITLE=9872 Main Street:geo:-84.5206214,34.0813133
END:VEVENT
BEGIN:VEVENT
DTSTART;TZID=America/New_York:20241211T060000
DTEND;TZID=America/New_York:20241211T070000
DTSTAMP:20260419T112527
CREATED:20240302T144827Z
LAST-MODIFIED:20240904T181052Z
UID:18730-1733896800-1733900400@www.thefactoryministries.org
SUMMARY:Wednesday Morning Prayer
DESCRIPTION:Every Wednesday\, we will be meeting for prayer from 6am to 7am.\nStop by on your way to work and stay for as long as you can.
URL:https://www.thefactoryministries.org/event/wednesday-morning-prayer-09-11/2024-12-11/
LOCATION:The Factory Church\, 9872 Main Street\, Woodstock\, GA\, 30188\, United States
CATEGORIES:Compassion
GEO:34.0813133;-84.5206214
X-APPLE-STRUCTURED-LOCATION;VALUE=URI;X-ADDRESS=The Factory Church 9872 Main Street Woodstock GA 30188 United States;X-APPLE-RADIUS=500;X-TITLE=9872 Main Street:geo:-84.5206214,34.0813133
END:VEVENT
BEGIN:VEVENT
DTSTART;TZID=America/New_York:20241207T073000
DTEND;TZID=America/New_York:20241207T210000
DTSTAMP:20260419T112527
CREATED:20240131T184522Z
LAST-MODIFIED:20240131T184522Z
UID:19041-1733556600-1733605200@www.thefactoryministries.org
SUMMARY:Mpact Mens Ministry
DESCRIPTION:Join us for Breakfast\, Fellowship\, Worship and the Word.
URL:https://www.thefactoryministries.org/event/mpact-mens-ministry/2024-12-07/
LOCATION:The Factory Church\, 9872 Main Street\, Woodstock\, GA\, 30188\, United States
CATEGORIES:Mpact Mens Ministry
GEO:34.0813133;-84.5206214
X-APPLE-STRUCTURED-LOCATION;VALUE=URI;X-ADDRESS=The Factory Church 9872 Main Street Woodstock GA 30188 United States;X-APPLE-RADIUS=500;X-TITLE=9872 Main Street:geo:-84.5206214,34.0813133
END:VEVENT
BEGIN:VEVENT
DTSTART;TZID=America/New_York:20241204T183000
DTEND;TZID=America/New_York:20241204T203000
DTSTAMP:20260419T112527
CREATED:20240302T143956Z
LAST-MODIFIED:20251015T201610Z
UID:18911-1733337000-1733344200@www.thefactoryministries.org
SUMMARY:YTH Wednesdays
DESCRIPTION:Join us Wednesdays from for games\, fellowship\, a relevant message\, and life-giving small groups! \nRegister your middle and high school students below. \n[maxbutton id=”84″ ] \n 
URL:https://www.thefactoryministries.org/event/yth-wednesdays/2024-12-04/
LOCATION:The Factory Church\, 9872 Main Street\, Woodstock\, GA\, 30188\, United States
CATEGORIES:YOUTH
GEO:34.0813133;-84.5206214
X-APPLE-STRUCTURED-LOCATION;VALUE=URI;X-ADDRESS=The Factory Church 9872 Main Street Woodstock GA 30188 United States;X-APPLE-RADIUS=500;X-TITLE=9872 Main Street:geo:-84.5206214,34.0813133
END:VEVENT
BEGIN:VEVENT
DTSTART;TZID=America/New_York:20241204T160000
DTEND;TZID=America/New_York:20241204T200000
DTSTAMP:20260419T112527
CREATED:20241029T165351Z
LAST-MODIFIED:20241029T165351Z
UID:19257-1733328000-1733342400@www.thefactoryministries.org
SUMMARY:SafeHouse Outreach
DESCRIPTION:If you’d like to join us as we provide a meal to the hungry and homeless in Atlanta\, meet us at The Factory at 4:00 pm or directly at Safehouse at 89 Ellis Street NE\, Atlanta by 5:00pm. We need volunteers to serve food and mingle with the guests.
URL:https://www.thefactoryministries.org/event/safehouse-outreach-4/2024-12-04/
LOCATION:GA
CATEGORIES:Compassion
END:VEVENT
BEGIN:VEVENT
DTSTART;TZID=America/New_York:20241204T060000
DTEND;TZID=America/New_York:20241204T070000
DTSTAMP:20260419T112527
CREATED:20240302T144827Z
LAST-MODIFIED:20240904T181051Z
UID:18729-1733292000-1733295600@www.thefactoryministries.org
SUMMARY:Wednesday Morning Prayer
DESCRIPTION:Every Wednesday\, we will be meeting for prayer from 6am to 7am.\nStop by on your way to work and stay for as long as you can.
URL:https://www.thefactoryministries.org/event/wednesday-morning-prayer-09-11/2024-12-04/
LOCATION:The Factory Church\, 9872 Main Street\, Woodstock\, GA\, 30188\, United States
CATEGORIES:Compassion
GEO:34.0813133;-84.5206214
X-APPLE-STRUCTURED-LOCATION;VALUE=URI;X-ADDRESS=The Factory Church 9872 Main Street Woodstock GA 30188 United States;X-APPLE-RADIUS=500;X-TITLE=9872 Main Street:geo:-84.5206214,34.0813133
END:VEVENT
BEGIN:VEVENT
DTSTART;TZID=America/New_York:20241127T183000
DTEND;TZID=America/New_York:20241127T203000
DTSTAMP:20260419T112527
CREATED:20240302T143956Z
LAST-MODIFIED:20251015T201609Z
UID:18910-1732732200-1732739400@www.thefactoryministries.org
SUMMARY:YTH Wednesdays
DESCRIPTION:Join us Wednesdays from for games\, fellowship\, a relevant message\, and life-giving small groups! \nRegister your middle and high school students below. \n[maxbutton id=”84″ ] \n 
URL:https://www.thefactoryministries.org/event/yth-wednesdays/2024-11-27/
LOCATION:The Factory Church\, 9872 Main Street\, Woodstock\, GA\, 30188\, United States
CATEGORIES:YOUTH
GEO:34.0813133;-84.5206214
X-APPLE-STRUCTURED-LOCATION;VALUE=URI;X-ADDRESS=The Factory Church 9872 Main Street Woodstock GA 30188 United States;X-APPLE-RADIUS=500;X-TITLE=9872 Main Street:geo:-84.5206214,34.0813133
END:VEVENT
BEGIN:VEVENT
DTSTART;TZID=America/New_York:20241127T060000
DTEND;TZID=America/New_York:20241127T070000
DTSTAMP:20260419T112527
CREATED:20240302T144827Z
LAST-MODIFIED:20240904T181050Z
UID:18728-1732687200-1732690800@www.thefactoryministries.org
SUMMARY:Wednesday Morning Prayer
DESCRIPTION:Every Wednesday\, we will be meeting for prayer from 6am to 7am.\nStop by on your way to work and stay for as long as you can.
URL:https://www.thefactoryministries.org/event/wednesday-morning-prayer-09-11/2024-11-27/
LOCATION:The Factory Church\, 9872 Main Street\, Woodstock\, GA\, 30188\, United States
CATEGORIES:Compassion
GEO:34.0813133;-84.5206214
X-APPLE-STRUCTURED-LOCATION;VALUE=URI;X-ADDRESS=The Factory Church 9872 Main Street Woodstock GA 30188 United States;X-APPLE-RADIUS=500;X-TITLE=9872 Main Street:geo:-84.5206214,34.0813133
END:VEVENT
BEGIN:VEVENT
DTSTART;VALUE=DATE:20241122
DTEND;VALUE=DATE:20241124
DTSTAMP:20260419T112527
CREATED:20241029T170917Z
LAST-MODIFIED:20241114T162109Z
UID:19274-1732233600-1732406399@www.thefactoryministries.org
SUMMARY:Womens FIC Conference
DESCRIPTION:Ladies\, we hope you all have “Saved the Date” for our first Ladies Freedom conference coming up November 22 at 7-9pm and 23 from 7:30-5pm . We will be learning invaluable truths from the books\, Victory Over The Darkness and The Bondage Breaker by Neil Anderson\, founder of Freedom In Christ Ministries. We will focus on topics such as the Battle for the Mind\, Anxiety\, Depression\, Spiritual Warfare\, Forgiveness\, Choosing to Believe the Truth and others. There is a $10 admission fee that will cover materials and food for both days of the conference. Books will be available for purchase during the conference. Invite someone to come with you and sign up in the lobby\, at the information booth\, or on the app. This is a time for you to focus on your walk with Christ. No childcare will be provided onsite. \n  \nRegister here  \n  \n  \n  \n 
URL:https://www.thefactoryministries.org/event/womens-fic-conference/
LOCATION:The Factory Church\, 9872 Main Street\, Woodstock\, GA\, 30188\, United States
CATEGORIES:Inreach
GEO:34.0813133;-84.5206214
X-APPLE-STRUCTURED-LOCATION;VALUE=URI;X-ADDRESS=The Factory Church 9872 Main Street Woodstock GA 30188 United States;X-APPLE-RADIUS=500;X-TITLE=9872 Main Street:geo:-84.5206214,34.0813133
END:VEVENT
BEGIN:VEVENT
DTSTART;TZID=America/New_York:20241121T183000
DTEND;TZID=America/New_York:20241121T194500
DTSTAMP:20260419T112527
CREATED:20240904T190430Z
LAST-MODIFIED:20240904T190430Z
UID:19096-1732213800-1732218300@www.thefactoryministries.org
SUMMARY:Factory Kids Volunteer Meeting
DESCRIPTION:Join us for a Monthly meeting of our Children’s ministry  team leaders.
URL:https://www.thefactoryministries.org/event/factory-kids-volunteer-meeting/2024-11-21/
LOCATION:The Factory Church\, 9872 Main Street\, Woodstock\, GA\, 30188\, United States
GEO:34.0813133;-84.5206214
X-APPLE-STRUCTURED-LOCATION;VALUE=URI;X-ADDRESS=The Factory Church 9872 Main Street Woodstock GA 30188 United States;X-APPLE-RADIUS=500;X-TITLE=9872 Main Street:geo:-84.5206214,34.0813133
END:VEVENT
BEGIN:VEVENT
DTSTART;TZID=America/New_York:20241121T183000
DTEND;TZID=America/New_York:20241121T194500
DTSTAMP:20260419T112527
CREATED:20240401T145307Z
LAST-MODIFIED:20241029T194550Z
UID:18386-1732213800-1732218300@www.thefactoryministries.org
SUMMARY:Factory Kids Team Meeting
DESCRIPTION:Team meeting for those that serve in the children’s ministry. Join us at the church from 6:30-7:45 Pm.
URL:https://www.thefactoryministries.org/event/factory-kids-team-meeting/
LOCATION:The Factory Church\, 9872 Main Street\, Woodstock\, GA\, 30188\, United States
CATEGORIES:Compassion
GEO:34.0813133;-84.5206214
X-APPLE-STRUCTURED-LOCATION;VALUE=URI;X-ADDRESS=The Factory Church 9872 Main Street Woodstock GA 30188 United States;X-APPLE-RADIUS=500;X-TITLE=9872 Main Street:geo:-84.5206214,34.0813133
END:VEVENT
BEGIN:VEVENT
DTSTART;TZID=America/New_York:20241120T183000
DTEND;TZID=America/New_York:20241120T203000
DTSTAMP:20260419T112527
CREATED:20240302T143956Z
LAST-MODIFIED:20251015T201557Z
UID:18909-1732127400-1732134600@www.thefactoryministries.org
SUMMARY:YTH Wednesdays
DESCRIPTION:Join us Wednesdays from for games\, fellowship\, a relevant message\, and life-giving small groups! \nRegister your middle and high school students below. \n[maxbutton id=”84″ ] \n 
URL:https://www.thefactoryministries.org/event/yth-wednesdays/2024-11-20/
LOCATION:The Factory Church\, 9872 Main Street\, Woodstock\, GA\, 30188\, United States
CATEGORIES:YOUTH
GEO:34.0813133;-84.5206214
X-APPLE-STRUCTURED-LOCATION;VALUE=URI;X-ADDRESS=The Factory Church 9872 Main Street Woodstock GA 30188 United States;X-APPLE-RADIUS=500;X-TITLE=9872 Main Street:geo:-84.5206214,34.0813133
END:VEVENT
BEGIN:VEVENT
DTSTART;TZID=America/New_York:20241120T060000
DTEND;TZID=America/New_York:20241120T070000
DTSTAMP:20260419T112527
CREATED:20240302T144827Z
LAST-MODIFIED:20240904T181049Z
UID:18727-1732082400-1732086000@www.thefactoryministries.org
SUMMARY:Wednesday Morning Prayer
DESCRIPTION:Every Wednesday\, we will be meeting for prayer from 6am to 7am.\nStop by on your way to work and stay for as long as you can.
URL:https://www.thefactoryministries.org/event/wednesday-morning-prayer-09-11/2024-11-20/
LOCATION:The Factory Church\, 9872 Main Street\, Woodstock\, GA\, 30188\, United States
CATEGORIES:Compassion
GEO:34.0813133;-84.5206214
X-APPLE-STRUCTURED-LOCATION;VALUE=URI;X-ADDRESS=The Factory Church 9872 Main Street Woodstock GA 30188 United States;X-APPLE-RADIUS=500;X-TITLE=9872 Main Street:geo:-84.5206214,34.0813133
END:VEVENT
END:VCALENDAR