BEGIN:VCALENDAR
VERSION:2.0
PRODID:-//The Factory - ECPv6.15.20//NONSGML v1.0//EN
CALSCALE:GREGORIAN
METHOD:PUBLISH
X-WR-CALNAME:The Factory
X-ORIGINAL-URL:https://www.thefactoryministries.org
X-WR-CALDESC:Events for The Factory
REFRESH-INTERVAL;VALUE=DURATION:PT1H
X-Robots-Tag:noindex
X-PUBLISHED-TTL:PT1H
BEGIN:VTIMEZONE
TZID:America/New_York
BEGIN:DAYLIGHT
TZOFFSETFROM:-0500
TZOFFSETTO:-0400
TZNAME:EDT
DTSTART:20220313T070000
END:DAYLIGHT
BEGIN:STANDARD
TZOFFSETFROM:-0400
TZOFFSETTO:-0500
TZNAME:EST
DTSTART:20221106T060000
END:STANDARD
BEGIN:DAYLIGHT
TZOFFSETFROM:-0500
TZOFFSETTO:-0400
TZNAME:EDT
DTSTART:20230312T070000
END:DAYLIGHT
BEGIN:STANDARD
TZOFFSETFROM:-0400
TZOFFSETTO:-0500
TZNAME:EST
DTSTART:20231105T060000
END:STANDARD
BEGIN:DAYLIGHT
TZOFFSETFROM:-0500
TZOFFSETTO:-0400
TZNAME:EDT
DTSTART:20240310T070000
END:DAYLIGHT
BEGIN:STANDARD
TZOFFSETFROM:-0400
TZOFFSETTO:-0500
TZNAME:EST
DTSTART:20241103T060000
END:STANDARD
END:VTIMEZONE
BEGIN:VEVENT
DTSTART;TZID=America/New_York:20230616T190000
DTEND;TZID=America/New_York:20230616T210000
DTSTAMP:20260420T053947
CREATED:20230525T153512Z
LAST-MODIFIED:20230525T153512Z
UID:17779-1686942000-1686949200@www.thefactoryministries.org
SUMMARY:The Factory YA Nights
DESCRIPTION:The Factory YA is a safe space for young adults in their 20s – 30s\, married or single\, to experience community built on God’s Word and our response to it. We meet every 3rd Friday of the month at 7PM! Childcare and food will be provided!
URL:https://www.thefactoryministries.org/event/the-factory-ya-nights/2023-06-16/
LOCATION:The Factory Church\, 9872 Main Street\, Woodstock\, GA\, 30188\, United States
CATEGORIES:Young Adults
ATTACH;FMTTYPE=image/png:https://www.thefactoryministries.org/wp-content/uploads/2023/05/Factory-Young-Adults-LOGO-1.png
ORGANIZER;CN="Eric Dexter":MAILTO:eric@thefactoryministries.org
GEO:34.0813133;-84.5206214
X-APPLE-STRUCTURED-LOCATION;VALUE=URI;X-ADDRESS=The Factory Church 9872 Main Street Woodstock GA 30188 United States;X-APPLE-RADIUS=500;X-TITLE=9872 Main Street:geo:-84.5206214,34.0813133
END:VEVENT
END:VCALENDAR