BEGIN:VCALENDAR
VERSION:2.0
PRODID:-//The Factory - ECPv6.15.20//NONSGML v1.0//EN
CALSCALE:GREGORIAN
METHOD:PUBLISH
X-ORIGINAL-URL:https://www.thefactoryministries.org
X-WR-CALDESC:Events for The Factory
REFRESH-INTERVAL;VALUE=DURATION:PT1H
X-Robots-Tag:noindex
X-PUBLISHED-TTL:PT1H
BEGIN:VTIMEZONE
TZID:America/New_York
BEGIN:DAYLIGHT
TZOFFSETFROM:-0500
TZOFFSETTO:-0400
TZNAME:EDT
DTSTART:20220313T070000
END:DAYLIGHT
BEGIN:STANDARD
TZOFFSETFROM:-0400
TZOFFSETTO:-0500
TZNAME:EST
DTSTART:20221106T060000
END:STANDARD
BEGIN:DAYLIGHT
TZOFFSETFROM:-0500
TZOFFSETTO:-0400
TZNAME:EDT
DTSTART:20230312T070000
END:DAYLIGHT
BEGIN:STANDARD
TZOFFSETFROM:-0400
TZOFFSETTO:-0500
TZNAME:EST
DTSTART:20231105T060000
END:STANDARD
BEGIN:DAYLIGHT
TZOFFSETFROM:-0500
TZOFFSETTO:-0400
TZNAME:EDT
DTSTART:20240310T070000
END:DAYLIGHT
BEGIN:STANDARD
TZOFFSETFROM:-0400
TZOFFSETTO:-0500
TZNAME:EST
DTSTART:20241103T060000
END:STANDARD
BEGIN:DAYLIGHT
TZOFFSETFROM:-0500
TZOFFSETTO:-0400
TZNAME:EDT
DTSTART:20250309T070000
END:DAYLIGHT
BEGIN:STANDARD
TZOFFSETFROM:-0400
TZOFFSETTO:-0500
TZNAME:EST
DTSTART:20251102T060000
END:STANDARD
END:VTIMEZONE
BEGIN:VEVENT
DTSTART;VALUE=DATE:20240226
DTEND;VALUE=DATE:20240227
DTSTAMP:20260420T041002
CREATED:20240131T193409Z
LAST-MODIFIED:20240131T193409Z
UID:18217-1708905600-1708991999@www.thefactoryministries.org
SUMMARY:Discipleship Group Kickoff Week (FEB 26th)
DESCRIPTION:Our Discipleship groups are gearing up for an exciting season! Starting the week of February 26th\, we will offer groups with various studies\, meeting options\, and types of groups to cater to different preferences and schedules. This is a fantastic opportunity to connect with fellow believers\, deepen your understanding of God’s Word\, and grow in your faith. Registration is open on the church app or in the foyer\, so be sure to sign up for a group. \n  \nWe believe that these opportunities will not only help us to become students of Jesus\, but they will also strengthen the bonds of our community. Let’s commit to growing together as we seek the presence of God through prayer\, fasting\, Bible reading and fellowship.
URL:https://www.thefactoryministries.org/event/discipleship-group-kickoff-week-feb-26th/
LOCATION:The Factory Church\, 9872 Main Street\, Woodstock\, GA\, 30188\, United States
CATEGORIES:Discipleship Groups
GEO:34.0813133;-84.5206214
X-APPLE-STRUCTURED-LOCATION;VALUE=URI;X-ADDRESS=The Factory Church 9872 Main Street Woodstock GA 30188 United States;X-APPLE-RADIUS=500;X-TITLE=9872 Main Street:geo:-84.5206214,34.0813133
END:VEVENT
BEGIN:VEVENT
DTSTART;VALUE=DATE:20230911
DTEND;VALUE=DATE:20230912
DTSTAMP:20260420T041002
CREATED:20230828T204445Z
LAST-MODIFIED:20230828T204445Z
UID:17949-1694390400-1694476799@www.thefactoryministries.org
SUMMARY:Discipleship Groups Registration Now Open
DESCRIPTION:A disciple is a student and we cannot know about our God without studying His word. Our Discipleship Group curriculum is designed to help you really dig in and meet the God who loves you\, who wants the very best for your life\, and wants to have a meaningful relationship with you. Registration for the Fall Discipleship Groups is now open! This semester all groups (except for Tom and Terri Hill’s group) will be doing a study on the book of Hosea. We have ladies only\, men’s only\, young adult\, and co-ed groups from which to choose. Some meet online only\, and some meet in-person\, so hopefully there’s a group that fits your preference and availability. Register here\, and get ready to dig into God’s word with your Factory family beginning the week of September 11th! \n\nDiscipleship Groups Registration \nLadies\, Men’s\, Young Adult\, Co-Ed groups. \nun|FAITHFUL – a study of the book of Hosea \nRegister – https://thefactory.ccbchurch.com/goto/forms/255/responses/new
URL:https://www.thefactoryministries.org/event/discipleship-groups-registration-now-open/
LOCATION:The Factory Church\, 9872 Main Street\, Woodstock\, GA\, 30188\, United States
CATEGORIES:Discipleship Groups
ATTACH;FMTTYPE=image/jpeg:https://www.thefactoryministries.org/wp-content/uploads/2023/08/unfaithfu.jpg
GEO:34.0813133;-84.5206214
X-APPLE-STRUCTURED-LOCATION;VALUE=URI;X-ADDRESS=The Factory Church 9872 Main Street Woodstock GA 30188 United States;X-APPLE-RADIUS=500;X-TITLE=9872 Main Street:geo:-84.5206214,34.0813133
END:VEVENT
END:VCALENDAR