BEGIN:VCALENDAR
VERSION:2.0
PRODID:-//The Factory - ECPv6.15.20//NONSGML v1.0//EN
CALSCALE:GREGORIAN
METHOD:PUBLISH
X-ORIGINAL-URL:https://www.thefactoryministries.org
X-WR-CALDESC:Events for The Factory
REFRESH-INTERVAL;VALUE=DURATION:PT1H
X-Robots-Tag:noindex
X-PUBLISHED-TTL:PT1H
BEGIN:VTIMEZONE
TZID:America/New_York
BEGIN:DAYLIGHT
TZOFFSETFROM:-0500
TZOFFSETTO:-0400
TZNAME:EDT
DTSTART:20220313T070000
END:DAYLIGHT
BEGIN:STANDARD
TZOFFSETFROM:-0400
TZOFFSETTO:-0500
TZNAME:EST
DTSTART:20221106T060000
END:STANDARD
BEGIN:DAYLIGHT
TZOFFSETFROM:-0500
TZOFFSETTO:-0400
TZNAME:EDT
DTSTART:20230312T070000
END:DAYLIGHT
BEGIN:STANDARD
TZOFFSETFROM:-0400
TZOFFSETTO:-0500
TZNAME:EST
DTSTART:20231105T060000
END:STANDARD
BEGIN:DAYLIGHT
TZOFFSETFROM:-0500
TZOFFSETTO:-0400
TZNAME:EDT
DTSTART:20240310T070000
END:DAYLIGHT
BEGIN:STANDARD
TZOFFSETFROM:-0400
TZOFFSETTO:-0500
TZNAME:EST
DTSTART:20241103T060000
END:STANDARD
END:VTIMEZONE
BEGIN:VEVENT
DTSTART;TZID=America/New_York:20230412T183000
DTEND;TZID=America/New_York:20230412T203000
DTSTAMP:20260422T043703
CREATED:20180729T230725Z
LAST-MODIFIED:20230411T180534Z
UID:10571-1681324200-1681331400@www.thefactoryministries.org
SUMMARY:YTH Wednesdays
DESCRIPTION:Join us Wednesdays from for games\, fellowship\, a relevant message\, and life-giving small groups! \nRegister your middle and high school students below. \n[maxbutton id=”84″ ] \n 
URL:https://www.thefactoryministries.org/event/youth-group/2023-04-12/
LOCATION:The Factory Church\, 9872 Main Street\, Woodstock\, GA\, 30188\, United States
CATEGORIES:YOUTH
ATTACH;FMTTYPE=image/png:https://www.thefactoryministries.org/wp-content/uploads/2018/07/4.png
GEO:34.0813133;-84.5206214
X-APPLE-STRUCTURED-LOCATION;VALUE=URI;X-ADDRESS=The Factory Church 9872 Main Street Woodstock GA 30188 United States;X-APPLE-RADIUS=500;X-TITLE=9872 Main Street:geo:-84.5206214,34.0813133
END:VEVENT
END:VCALENDAR