BEGIN:VCALENDAR
VERSION:2.0
PRODID:-//The Factory - ECPv6.15.20//NONSGML v1.0//EN
CALSCALE:GREGORIAN
METHOD:PUBLISH
X-ORIGINAL-URL:https://www.thefactoryministries.org
X-WR-CALDESC:Events for The Factory
REFRESH-INTERVAL;VALUE=DURATION:PT1H
X-Robots-Tag:noindex
X-PUBLISHED-TTL:PT1H
BEGIN:VTIMEZONE
TZID:America/New_York
BEGIN:DAYLIGHT
TZOFFSETFROM:-0500
TZOFFSETTO:-0400
TZNAME:EDT
DTSTART:20230312T070000
END:DAYLIGHT
BEGIN:STANDARD
TZOFFSETFROM:-0400
TZOFFSETTO:-0500
TZNAME:EST
DTSTART:20231105T060000
END:STANDARD
BEGIN:DAYLIGHT
TZOFFSETFROM:-0500
TZOFFSETTO:-0400
TZNAME:EDT
DTSTART:20240310T070000
END:DAYLIGHT
BEGIN:STANDARD
TZOFFSETFROM:-0400
TZOFFSETTO:-0500
TZNAME:EST
DTSTART:20241103T060000
END:STANDARD
BEGIN:DAYLIGHT
TZOFFSETFROM:-0500
TZOFFSETTO:-0400
TZNAME:EDT
DTSTART:20250309T070000
END:DAYLIGHT
BEGIN:STANDARD
TZOFFSETFROM:-0400
TZOFFSETTO:-0500
TZNAME:EST
DTSTART:20251102T060000
END:STANDARD
BEGIN:DAYLIGHT
TZOFFSETFROM:-0500
TZOFFSETTO:-0400
TZNAME:EDT
DTSTART:20260308T070000
END:DAYLIGHT
BEGIN:STANDARD
TZOFFSETFROM:-0400
TZOFFSETTO:-0500
TZNAME:EST
DTSTART:20261101T060000
END:STANDARD
END:VTIMEZONE
BEGIN:VEVENT
DTSTART;TZID=America/New_York:20250321T173000
DTEND;TZID=America/New_York:20250321T190000
DTSTAMP:20260419T093330
CREATED:20240131T183814Z
LAST-MODIFIED:20240131T183814Z
UID:18984-1742578200-1742583600@www.thefactoryministries.org
SUMMARY:Second Chance Ministries - Feed the People @ Shady Grove
DESCRIPTION:Partnering with Second Chance Ministries\, we will be serving dinner to the hungry and homeless in the Kennesaw and Marietta area. This event is fully outdoors so dress for the weather. We will meet at Shady Grove Baptist Church\, 1654 Bells Ferry Road\, Marietta at 5:30 pm.
URL:https://www.thefactoryministries.org/event/second-chance-ministries-feed-the-people-shady-grove/2025-03-21/
LOCATION:Shady Grove Baptist Church\, 1654 Bells Ferry Road\, Marietta\, GA\, 30066\, United States
CATEGORIES:Compassion
END:VEVENT
BEGIN:VEVENT
DTSTART;TZID=America/New_York:20250117T173000
DTEND;TZID=America/New_York:20250117T190000
DTSTAMP:20260419T093330
CREATED:20240131T183814Z
LAST-MODIFIED:20240131T183814Z
UID:18982-1737135000-1737140400@www.thefactoryministries.org
SUMMARY:Second Chance Ministries - Feed the People @ Shady Grove
DESCRIPTION:Partnering with Second Chance Ministries\, we will be serving dinner to the hungry and homeless in the Kennesaw and Marietta area. This event is fully outdoors so dress for the weather. We will meet at Shady Grove Baptist Church\, 1654 Bells Ferry Road\, Marietta at 5:30 pm.
URL:https://www.thefactoryministries.org/event/second-chance-ministries-feed-the-people-shady-grove/2025-01-17/
LOCATION:Shady Grove Baptist Church\, 1654 Bells Ferry Road\, Marietta\, GA\, 30066\, United States
CATEGORIES:Compassion
END:VEVENT
BEGIN:VEVENT
DTSTART;TZID=America/New_York:20241220T173000
DTEND;TZID=America/New_York:20241220T190000
DTSTAMP:20260419T093330
CREATED:20240131T183814Z
LAST-MODIFIED:20240131T183814Z
UID:18981-1734715800-1734721200@www.thefactoryministries.org
SUMMARY:Second Chance Ministries - Feed the People @ Shady Grove
DESCRIPTION:Partnering with Second Chance Ministries\, we will be serving dinner to the hungry and homeless in the Kennesaw and Marietta area. This event is fully outdoors so dress for the weather. We will meet at Shady Grove Baptist Church\, 1654 Bells Ferry Road\, Marietta at 5:30 pm.
URL:https://www.thefactoryministries.org/event/second-chance-ministries-feed-the-people-shady-grove/2024-12-20/
LOCATION:Shady Grove Baptist Church\, 1654 Bells Ferry Road\, Marietta\, GA\, 30066\, United States
CATEGORIES:Compassion
END:VEVENT
BEGIN:VEVENT
DTSTART;TZID=America/New_York:20241115T173000
DTEND;TZID=America/New_York:20241115T190000
DTSTAMP:20260419T093330
CREATED:20240131T183814Z
LAST-MODIFIED:20240131T183814Z
UID:18980-1731691800-1731697200@www.thefactoryministries.org
SUMMARY:Second Chance Ministries - Feed the People @ Shady Grove
DESCRIPTION:Partnering with Second Chance Ministries\, we will be serving dinner to the hungry and homeless in the Kennesaw and Marietta area. This event is fully outdoors so dress for the weather. We will meet at Shady Grove Baptist Church\, 1654 Bells Ferry Road\, Marietta at 5:30 pm.
URL:https://www.thefactoryministries.org/event/second-chance-ministries-feed-the-people-shady-grove/2024-11-15/
LOCATION:Shady Grove Baptist Church\, 1654 Bells Ferry Road\, Marietta\, GA\, 30066\, United States
CATEGORIES:Compassion
END:VEVENT
BEGIN:VEVENT
DTSTART;TZID=America/New_York:20241018T173000
DTEND;TZID=America/New_York:20241018T190000
DTSTAMP:20260419T093330
CREATED:20240131T183814Z
LAST-MODIFIED:20240131T183814Z
UID:18979-1729272600-1729278000@www.thefactoryministries.org
SUMMARY:Second Chance Ministries - Feed the People @ Shady Grove
DESCRIPTION:Partnering with Second Chance Ministries\, we will be serving dinner to the hungry and homeless in the Kennesaw and Marietta area. This event is fully outdoors so dress for the weather. We will meet at Shady Grove Baptist Church\, 1654 Bells Ferry Road\, Marietta at 5:30 pm.
URL:https://www.thefactoryministries.org/event/second-chance-ministries-feed-the-people-shady-grove/2024-10-18/
LOCATION:Shady Grove Baptist Church\, 1654 Bells Ferry Road\, Marietta\, GA\, 30066\, United States
CATEGORIES:Compassion
END:VEVENT
BEGIN:VEVENT
DTSTART;TZID=America/New_York:20240920T173000
DTEND;TZID=America/New_York:20240920T190000
DTSTAMP:20260419T093330
CREATED:20240131T183814Z
LAST-MODIFIED:20240904T190829Z
UID:18180-1726853400-1726858800@www.thefactoryministries.org
SUMMARY:Second Chance Ministries - Feed the People @ Shady Grove
DESCRIPTION:Partnering with Second Chance Ministries\, we will be serving dinner to the hungry and homeless in the Kennesaw and Marietta area. This event is fully outdoors so dress for the weather. We will meet at Shady Grove Baptist Church\, 1654 Bells Ferry Road\, Marietta at 5:30 pm.
URL:https://www.thefactoryministries.org/event/second-chance-ministries-feed-the-people-shady-grove/2024-09-20/
LOCATION:Shady Grove Baptist Church\, 1654 Bells Ferry Road\, Marietta\, GA\, 30066\, United States
CATEGORIES:Compassion
END:VEVENT
END:VCALENDAR