BEGIN:VCALENDAR
VERSION:2.0
PRODID:-//The Factory - ECPv6.15.20//NONSGML v1.0//EN
CALSCALE:GREGORIAN
METHOD:PUBLISH
X-ORIGINAL-URL:https://www.thefactoryministries.org
X-WR-CALDESC:Events for The Factory
REFRESH-INTERVAL;VALUE=DURATION:PT1H
X-Robots-Tag:noindex
X-PUBLISHED-TTL:PT1H
BEGIN:VTIMEZONE
TZID:America/New_York
BEGIN:DAYLIGHT
TZOFFSETFROM:-0500
TZOFFSETTO:-0400
TZNAME:EDT
DTSTART:20190310T070000
END:DAYLIGHT
BEGIN:STANDARD
TZOFFSETFROM:-0400
TZOFFSETTO:-0500
TZNAME:EST
DTSTART:20191103T060000
END:STANDARD
BEGIN:DAYLIGHT
TZOFFSETFROM:-0500
TZOFFSETTO:-0400
TZNAME:EDT
DTSTART:20200308T070000
END:DAYLIGHT
BEGIN:STANDARD
TZOFFSETFROM:-0400
TZOFFSETTO:-0500
TZNAME:EST
DTSTART:20201101T060000
END:STANDARD
BEGIN:DAYLIGHT
TZOFFSETFROM:-0500
TZOFFSETTO:-0400
TZNAME:EDT
DTSTART:20210314T070000
END:DAYLIGHT
BEGIN:STANDARD
TZOFFSETFROM:-0400
TZOFFSETTO:-0500
TZNAME:EST
DTSTART:20211107T060000
END:STANDARD
END:VTIMEZONE
BEGIN:VEVENT
DTSTART;VALUE=DATE:20201012
DTEND;VALUE=DATE:20201013
DTSTAMP:20260420T125201
CREATED:20200927T143543Z
LAST-MODIFIED:20201013T134437Z
UID:14625-1602460800-1602547199@www.thefactoryministries.org
SUMMARY:Month of Prayer
DESCRIPTION:We are a church that’s always been built on a foundation of prayer\, and beginning Mon.\, Oct. 12th we will be entering into a season of intentional\, daily prayer. We invite you to join us on Zoom every Monday thru Friday for 30 minutes as seek the heart of our Abba Father at 9am\, 12pm\, 3pm\, 6pm and 9pm. Zoom links will be on our app under “events.” \n \nLucille Norman is inviting you to a scheduled Zoom meeting.Topic: October Time of Prayer Time: This is a recurring meeting Meet anytimeJoin Zoom Meeting https://zoom.us/j/92846027025?pwd=d2tyZ2poaFY5MW9nOTZUa2lUV0tjZz09Meeting ID: 928 4602 7025 Passcode: P1012 One tap mobile +13017158592\,\,92846027025#\,\,\,\,\,\,0#\,\,550262# US (Germantown) +13126266799\,\,92846027025#\,\,\,\,\,\,0#\,\,550262# US (Chicago)Dial by your location +1 301 715 8592 US (Germantown) +1 312 626 6799 US (Chicago) +1 929 205 6099 US (New York) +1 253 215 8782 US (Tacoma) +1 346 248 7799 US (Houston) +1 669 900 6833 US (San Jose) Meeting ID: 928 4602 7025 Passcode: 550262 Find your local number: https://zoom.us/u/adnAjVk2ZR \n\n\n\n Monday\nTuesday\nWednesday\nThursday\nFriday\n\n\nChurches and Ministries\nFamily\nBelievers\nGovernment\nLocal and Global Affairs\n\n\n\nThe FactoryThe Persecuted ChurchOther ChurchesLocal MissionsWorld MissionsSpiritual RevivalEvangelism MinistriesDiscipleship Ministries \n\n\nOur Immediate FamiliesOur RelativesSpiritual ConcernsUnsaved Family MembersMarriagesSinglesWindowsDivorcedEmotional and Physical Concerns \n\nPastorsMinistry LeadersPersonal FriendsYouthThe Oppressed and in NeedSpiritual GrowthEmotional and Physical Concerns\n\nPresident TrumpUpcoming ElectionLocal GovernmentNational GovernmentWorld LeadersUnemploymentCurrent Events and ConcernsSchools \n\nRacial UnityPeace Among NationsCOVID – 19Violence Throughout our CountryThe Poor and HungaryHomelessnessFamine\n\n\n\n\n\n\n\n\n\n\n\n \n 
URL:https://www.thefactoryministries.org/event/month-of-prayer/2020-10-12/
LOCATION:Virtual Meeting
ATTACH;FMTTYPE=image/jpeg:https://www.thefactoryministries.org/wp-content/uploads/2020/09/MonthofPrayer.jpg
END:VEVENT
END:VCALENDAR